BEGIN:VCALENDAR
VERSION:2.0
PRODID:-//Arts &amp; Business Council of Miami - ECPv6.15.20//NONSGML v1.0//EN
CALSCALE:GREGORIAN
METHOD:PUBLISH
X-WR-CALNAME:Arts &amp; Business Council of Miami
X-ORIGINAL-URL:https://artsbizmiami.org
X-WR-CALDESC:Events for Arts &amp; Business Council of Miami
REFRESH-INTERVAL;VALUE=DURATION:PT1H
X-Robots-Tag:noindex
X-PUBLISHED-TTL:PT1H
BEGIN:VTIMEZONE
TZID:America/New_York
BEGIN:DAYLIGHT
TZOFFSETFROM:-0500
TZOFFSETTO:-0400
TZNAME:EDT
DTSTART:20250309T070000
END:DAYLIGHT
BEGIN:STANDARD
TZOFFSETFROM:-0400
TZOFFSETTO:-0500
TZNAME:EST
DTSTART:20251102T060000
END:STANDARD
BEGIN:DAYLIGHT
TZOFFSETFROM:-0500
TZOFFSETTO:-0400
TZNAME:EDT
DTSTART:20260308T070000
END:DAYLIGHT
BEGIN:STANDARD
TZOFFSETFROM:-0400
TZOFFSETTO:-0500
TZNAME:EST
DTSTART:20261101T060000
END:STANDARD
BEGIN:DAYLIGHT
TZOFFSETFROM:-0500
TZOFFSETTO:-0400
TZNAME:EDT
DTSTART:20270314T070000
END:DAYLIGHT
BEGIN:STANDARD
TZOFFSETFROM:-0400
TZOFFSETTO:-0500
TZNAME:EST
DTSTART:20271107T060000
END:STANDARD
END:VTIMEZONE
BEGIN:VEVENT
DTSTART;TZID=America/New_York:20260118T190000
DTEND;TZID=America/New_York:20260118T203000
DTSTAMP:20260419T122416
CREATED:20260105T184637Z
LAST-MODIFIED:20260105T184637Z
UID:18764-1768762800-1768768200@artsbizmiami.org
SUMMARY:Direct From Sweden – The Music Of ABBA
DESCRIPTION:Relive the magic of ABBA with this world-class tribute direct from Sweden. Featuring authentic costumes\, impeccable vocals\, and classic hits like “Mamma Mia\,” “Waterloo\,” and “Dancing Queen\,” this concert will have audiences singing and dancing all night long.
URL:https://artsbizmiami.org/calendar/direct-from-sweden-the-music-of-abba/
CATEGORIES:Partner Events
ATTACH;FMTTYPE=image/jpeg:https://artsbizmiami.org/wp-content/uploads/2026/01/Music-OF-ABBA-v1-Frankie-Rios.jpg
END:VEVENT
END:VCALENDAR