BEGIN:VCALENDAR
VERSION:2.0
PRODID:-//Arts &amp; Business Council of Miami - ECPv6.15.20//NONSGML v1.0//EN
CALSCALE:GREGORIAN
METHOD:PUBLISH
X-ORIGINAL-URL:https://artsbizmiami.org
X-WR-CALDESC:Events for Arts &amp; Business Council of Miami
REFRESH-INTERVAL;VALUE=DURATION:PT1H
X-Robots-Tag:noindex
X-PUBLISHED-TTL:PT1H
BEGIN:VTIMEZONE
TZID:America/New_York
BEGIN:DAYLIGHT
TZOFFSETFROM:-0500
TZOFFSETTO:-0400
TZNAME:EDT
DTSTART:20250309T070000
END:DAYLIGHT
BEGIN:STANDARD
TZOFFSETFROM:-0400
TZOFFSETTO:-0500
TZNAME:EST
DTSTART:20251102T060000
END:STANDARD
BEGIN:DAYLIGHT
TZOFFSETFROM:-0500
TZOFFSETTO:-0400
TZNAME:EDT
DTSTART:20260308T070000
END:DAYLIGHT
BEGIN:STANDARD
TZOFFSETFROM:-0400
TZOFFSETTO:-0500
TZNAME:EST
DTSTART:20261101T060000
END:STANDARD
BEGIN:DAYLIGHT
TZOFFSETFROM:-0500
TZOFFSETTO:-0400
TZNAME:EDT
DTSTART:20270314T070000
END:DAYLIGHT
BEGIN:STANDARD
TZOFFSETFROM:-0400
TZOFFSETTO:-0500
TZNAME:EST
DTSTART:20271107T060000
END:STANDARD
END:VTIMEZONE
BEGIN:VEVENT
DTSTART;TZID=America/New_York:20260124T140000
DTEND;TZID=America/New_York:20260124T150000
DTSTAMP:20260419T122428
CREATED:20260105T190522Z
LAST-MODIFIED:20260105T190522Z
UID:18771-1769263200-1769266800@artsbizmiami.org
SUMMARY:Curious George – The Golden Meatball
DESCRIPTION:Everyone’s favorite monkey stars in a delightful family musical about friendship\, fun\, and the joy of cooking. This new adventure\, based on the beloved PBS series\, will have kids laughing and singing along.
URL:https://artsbizmiami.org/calendar/curious-george-the-golden-meatball/
CATEGORIES:Partner Events
ATTACH;FMTTYPE=image/jpeg:https://artsbizmiami.org/wp-content/uploads/2026/01/Curious-George-v1-Frankie-Rios.jpg
END:VEVENT
BEGIN:VEVENT
DTSTART;TZID=America/New_York:20260124T170000
DTEND;TZID=America/New_York:20260125T150000
DTSTAMP:20260419T122428
CREATED:20260105T191752Z
LAST-MODIFIED:20260105T191752Z
UID:18775-1769274000-1769353200@artsbizmiami.org
SUMMARY:Monica Bill Barnes & Company – Many Happy Returns
DESCRIPTION:Join the Moss Center for a New York Times Critic’s Pick\, this witty and heartfelt dance-theater piece explores memory\, identity\, and connection. Featuring Monica Bill Barnes and Robbie Saenz de Viteri\, the production fuses movement and storytelling with humor and humanity.
URL:https://artsbizmiami.org/calendar/monica-bill-barnes-company-many-happy-returns/
CATEGORIES:Partner Events
ATTACH;FMTTYPE=image/jpeg:https://artsbizmiami.org/wp-content/uploads/2026/01/Monica-Bill-Barnes-v1.1-Frankie-Rios.jpg
END:VEVENT
END:VCALENDAR