BEGIN:VCALENDAR
VERSION:2.0
PRODID:-//Arts &amp; Business Council of Miami - ECPv6.15.20//NONSGML v1.0//EN
CALSCALE:GREGORIAN
METHOD:PUBLISH
X-ORIGINAL-URL:https://artsbizmiami.org
X-WR-CALDESC:Events for Arts &amp; Business Council of Miami
REFRESH-INTERVAL;VALUE=DURATION:PT1H
X-Robots-Tag:noindex
X-PUBLISHED-TTL:PT1H
BEGIN:VTIMEZONE
TZID:America/New_York
BEGIN:DAYLIGHT
TZOFFSETFROM:-0500
TZOFFSETTO:-0400
TZNAME:EDT
DTSTART:20250309T070000
END:DAYLIGHT
BEGIN:STANDARD
TZOFFSETFROM:-0400
TZOFFSETTO:-0500
TZNAME:EST
DTSTART:20251102T060000
END:STANDARD
BEGIN:DAYLIGHT
TZOFFSETFROM:-0500
TZOFFSETTO:-0400
TZNAME:EDT
DTSTART:20260308T070000
END:DAYLIGHT
BEGIN:STANDARD
TZOFFSETFROM:-0400
TZOFFSETTO:-0500
TZNAME:EST
DTSTART:20261101T060000
END:STANDARD
BEGIN:DAYLIGHT
TZOFFSETFROM:-0500
TZOFFSETTO:-0400
TZNAME:EDT
DTSTART:20270314T070000
END:DAYLIGHT
BEGIN:STANDARD
TZOFFSETFROM:-0400
TZOFFSETTO:-0500
TZNAME:EST
DTSTART:20271107T060000
END:STANDARD
END:VTIMEZONE
BEGIN:VEVENT
DTSTART;TZID=America/New_York:20260224T190000
DTEND;TZID=America/New_York:20260226T220000
DTSTAMP:20260419T234533
CREATED:20260213T190107Z
LAST-MODIFIED:20260220T152549Z
UID:18934-1771959600-1772143200@artsbizmiami.org
SUMMARY:Don Juan: Pride and Paradise
DESCRIPTION:This Valentine’s Day Season\, Maroon Isle Productions proudly presents Don Juan: Pride and Paradise\, a bold\, immersive musical adaptation of the classic Don Juan story\, written and directed by Your Friendly Neighborhood Surinamese-American playwright Sefanja Richard Galon.The production runs February 17\, 18\, 19\, 24\, 25\, 26 and\nMarch 3\, 4\, 5 at 7:00 PM\, inside the intimate and atmospheric setting of Atchana’s\nHomegrown Thai (3194 Commodore Plaza\, Miami\, FL 33133). \nIn this Caribbean musical adaptation\, Don Juan hails from Jamaica and arrives in Miami on the run; having fled his marriage to the formidable Donna Elvira. Driven by desire and ego\, he pursues new conquests while attempting to close a high-stakes real estate deal at Atchana’s on behalf of his powerful father\, the owner of the illustrious Caribea resort group. Alongside him is his loyal best friend Sergio\, who tags along not for romance\, but survival\, hoping the success of the deal will secure his scholarship to Yale.
URL:https://artsbizmiami.org/calendar/don-juan-pride-and-paradise/
CATEGORIES:Partner Events
ATTACH;FMTTYPE=image/jpeg:https://artsbizmiami.org/wp-content/uploads/2026/02/Mikhael-Mendoza-and-Janine-Johnson-as-Don-Juan-and-Donna-Elvira0-2024-Sefanja-Galon.jpg
END:VEVENT
BEGIN:VEVENT
DTSTART;TZID=America/New_York:20260226T203000
DTEND;TZID=America/New_York:20260227T220000
DTSTAMP:20260419T234533
CREATED:20260105T193628Z
LAST-MODIFIED:20260105T193628Z
UID:18797-1772137800-1772229600@artsbizmiami.org
SUMMARY:BATSU! A Japanese Game Show Comedy
DESCRIPTION:Inspired by Japan’s popular batsu game style of comedy\, BATSU! brings outrageous\, high-energy competition to the stage as comedians face off to avoid electric shocks\, paintballs\, a giant egg-smashing chicken\, and other over-the-top punishments. With its lively yokocho vibe\, the show transports audiences to the alleyways of Tokyo for a night of authentic food\, drinks\, and immersive fun. \nGet your tickets here.
URL:https://artsbizmiami.org/calendar/batsu-a-japanese-game-show-comedy/
CATEGORIES:Partner Events
ATTACH;FMTTYPE=image/jpeg:https://artsbizmiami.org/wp-content/uploads/2026/01/BATSU-1-Frankie-Rios.jpg
END:VEVENT
END:VCALENDAR