BEGIN:VCALENDAR
VERSION:2.0
PRODID:-//Arts &amp; Business Council of Miami - ECPv6.15.20//NONSGML v1.0//EN
CALSCALE:GREGORIAN
METHOD:PUBLISH
X-WR-CALNAME:Arts &amp; Business Council of Miami
X-ORIGINAL-URL:https://artsbizmiami.org
X-WR-CALDESC:Events for Arts &amp; Business Council of Miami
REFRESH-INTERVAL;VALUE=DURATION:PT1H
X-Robots-Tag:noindex
X-PUBLISHED-TTL:PT1H
BEGIN:VTIMEZONE
TZID:America/New_York
BEGIN:DAYLIGHT
TZOFFSETFROM:-0500
TZOFFSETTO:-0400
TZNAME:EDT
DTSTART:20250309T070000
END:DAYLIGHT
BEGIN:STANDARD
TZOFFSETFROM:-0400
TZOFFSETTO:-0500
TZNAME:EST
DTSTART:20251102T060000
END:STANDARD
BEGIN:DAYLIGHT
TZOFFSETFROM:-0500
TZOFFSETTO:-0400
TZNAME:EDT
DTSTART:20260308T070000
END:DAYLIGHT
BEGIN:STANDARD
TZOFFSETFROM:-0400
TZOFFSETTO:-0500
TZNAME:EST
DTSTART:20261101T060000
END:STANDARD
BEGIN:DAYLIGHT
TZOFFSETFROM:-0500
TZOFFSETTO:-0400
TZNAME:EDT
DTSTART:20270314T070000
END:DAYLIGHT
BEGIN:STANDARD
TZOFFSETFROM:-0400
TZOFFSETTO:-0500
TZNAME:EST
DTSTART:20271107T060000
END:STANDARD
END:VTIMEZONE
BEGIN:VEVENT
DTSTART;TZID=America/New_York:20260306T180000
DTEND;TZID=America/New_York:20260307T210000
DTSTAMP:20260419T233406
CREATED:20260306T190603Z
LAST-MODIFIED:20260306T190603Z
UID:19057-1772820000-1772917200@artsbizmiami.org
SUMMARY:Street Stages
DESCRIPTION:Street Stages is a community-friendly series of events showcasing the talent of local artists and performers and activating completed sections of the new “festival streetscape” project currently under construction on Flagler Street. Events feature Singer/Songwriters\, Jazz/Pop Ensembles\, Jugglers\, Electronica\, and Performance Artists. \n\nWhat:  Street Stages: Dancing in the Street\nWhere:  146 E Flagler Street\, Downtown Miami\nWhen:  Every Friday and Saturday\, 6:00pm-9:00pm\,\nFriday\, Jan 30 through Saturday\, March 21\nAdmission: Free and open to the public
URL:https://artsbizmiami.org/calendar/street-stages-2/
CATEGORIES:#DowntownMiamiArts
ATTACH;FMTTYPE=image/jpeg:https://artsbizmiami.org/wp-content/uploads/2026/03/Screen-Shot-2026-03-06-at-1.59.21-PM.jpg
END:VEVENT
BEGIN:VEVENT
DTSTART;TZID=America/New_York:20260306T193000
DTEND;TZID=America/New_York:20260308T173000
DTSTAMP:20260419T233406
CREATED:20260306T170115Z
LAST-MODIFIED:20260306T170115Z
UID:19021-1772825400-1772991000@artsbizmiami.org
SUMMARY:Salon Series – New Works Featuring Dimensions Dance Theatre of Miami
DESCRIPTION:The Dennis C. Moss Cultural Arts Center presents New Works Featuring Dimensions Dance Theatre of Miami. \nExperience an up-close look at the artistry and innovation of Dimensions Dance Theatre of Miami in this special Salon Series presentation. This informal studio-style performance offers audiences a unique opportunity to see emerging choreography as it develops. Company dancers and creators will present original pieces in progress\, sharing insight into their inspiration and creative vision in an intimate\, interactive atmosphere. \nShowtimes: \nFriday\, March 6\, 2026\, at 7:30 p.m.  \nSaturday\, March 7\, 2026 at 7:30 p.m.  \nSunday\, March 8\, 2026 at 3:30 p.m.
URL:https://artsbizmiami.org/calendar/salon-series-new-works-featuring-dimensions-dance-theatre-of-miami/
CATEGORIES:Partner Events
ATTACH;FMTTYPE=image/jpeg:https://artsbizmiami.org/wp-content/uploads/2026/03/Salon-Series-Frankie-Rios.jpg
END:VEVENT
END:VCALENDAR