BEGIN:VCALENDAR
VERSION:2.0
PRODID:-//Arts &amp; Business Council of Miami - ECPv6.15.20//NONSGML v1.0//EN
CALSCALE:GREGORIAN
METHOD:PUBLISH
X-WR-CALNAME:Arts &amp; Business Council of Miami
X-ORIGINAL-URL:https://artsbizmiami.org
X-WR-CALDESC:Events for Arts &amp; Business Council of Miami
REFRESH-INTERVAL;VALUE=DURATION:PT1H
X-Robots-Tag:noindex
X-PUBLISHED-TTL:PT1H
BEGIN:VTIMEZONE
TZID:America/New_York
BEGIN:DAYLIGHT
TZOFFSETFROM:-0500
TZOFFSETTO:-0400
TZNAME:EDT
DTSTART:20250309T070000
END:DAYLIGHT
BEGIN:STANDARD
TZOFFSETFROM:-0400
TZOFFSETTO:-0500
TZNAME:EST
DTSTART:20251102T060000
END:STANDARD
BEGIN:DAYLIGHT
TZOFFSETFROM:-0500
TZOFFSETTO:-0400
TZNAME:EDT
DTSTART:20260308T070000
END:DAYLIGHT
BEGIN:STANDARD
TZOFFSETFROM:-0400
TZOFFSETTO:-0500
TZNAME:EST
DTSTART:20261101T060000
END:STANDARD
BEGIN:DAYLIGHT
TZOFFSETFROM:-0500
TZOFFSETTO:-0400
TZNAME:EDT
DTSTART:20270314T070000
END:DAYLIGHT
BEGIN:STANDARD
TZOFFSETFROM:-0400
TZOFFSETTO:-0500
TZNAME:EST
DTSTART:20271107T060000
END:STANDARD
END:VTIMEZONE
BEGIN:VEVENT
DTSTART;TZID=America/New_York:20260311T193000
DTEND;TZID=America/New_York:20260311T213000
DTSTAMP:20260423T064014
CREATED:20260306T185600Z
LAST-MODIFIED:20260306T185600Z
UID:19054-1773257400-1773264600@artsbizmiami.org
SUMMARY:RENT in Concert
DESCRIPTION:Experience the music of RENT in a powerful symphonic performance featuring a stellar ensemble of vocalists and musicians. Jonathan Larson’s iconic\, Tony and Pulitzer Prize winning musical follows a group of young artists navigating love\, creativity\, and survival in New York’s East Village during the height of the HIV/AIDS crisis. Featuring beloved songs like “Seasons of Love\,” “La Vie Bohème\,” and “Take Me or Leave Me\,” this reimagined concert brings new life to a groundbreaking story about friendship\, resilience\, and living for today.
URL:https://artsbizmiami.org/calendar/rent-in-concert/
CATEGORIES:#DowntownMiamiArts,Partner Events
ATTACH;FMTTYPE=image/jpeg:https://artsbizmiami.org/wp-content/uploads/2026/03/Screen-Shot-2026-03-06-at-1.55.05-PM.jpg
END:VEVENT
END:VCALENDAR