BEGIN:VCALENDAR
VERSION:2.0
PRODID:-//Arts &amp; Business Council of Miami - ECPv6.15.20//NONSGML v1.0//EN
CALSCALE:GREGORIAN
METHOD:PUBLISH
X-ORIGINAL-URL:https://artsbizmiami.org
X-WR-CALDESC:Events for Arts &amp; Business Council of Miami
REFRESH-INTERVAL;VALUE=DURATION:PT1H
X-Robots-Tag:noindex
X-PUBLISHED-TTL:PT1H
BEGIN:VTIMEZONE
TZID:America/New_York
BEGIN:DAYLIGHT
TZOFFSETFROM:-0500
TZOFFSETTO:-0400
TZNAME:EDT
DTSTART:20250309T070000
END:DAYLIGHT
BEGIN:STANDARD
TZOFFSETFROM:-0400
TZOFFSETTO:-0500
TZNAME:EST
DTSTART:20251102T060000
END:STANDARD
BEGIN:DAYLIGHT
TZOFFSETFROM:-0500
TZOFFSETTO:-0400
TZNAME:EDT
DTSTART:20260308T070000
END:DAYLIGHT
BEGIN:STANDARD
TZOFFSETFROM:-0400
TZOFFSETTO:-0500
TZNAME:EST
DTSTART:20261101T060000
END:STANDARD
BEGIN:DAYLIGHT
TZOFFSETFROM:-0500
TZOFFSETTO:-0400
TZNAME:EDT
DTSTART:20270314T070000
END:DAYLIGHT
BEGIN:STANDARD
TZOFFSETFROM:-0400
TZOFFSETTO:-0500
TZNAME:EST
DTSTART:20271107T060000
END:STANDARD
END:VTIMEZONE
BEGIN:VEVENT
DTSTART;TZID=America/New_York:20260314T110000
DTEND;TZID=America/New_York:20260314T124000
DTSTAMP:20260423T075145
CREATED:20260306T161842Z
LAST-MODIFIED:20260306T161842Z
UID:19009-1773486000-1773492000@artsbizmiami.org
SUMMARY:Kiki's Delivery Service for Family Day
DESCRIPTION:Join Coral Gables Arts Cinema for  a screening of Kiki’s Delivery Service. \nIt’s a tradition for all young witches to leave their families on the night of a full moon and set out into the wide world to learn their craft. When that night comes for Kiki\, she embarks on her life journey with her chatty black cat\, Jiji\, landing the next morning in a sea-side village\, where a bakery owner hires her to make deliveries. The resourceful young witch uses her broom for the delivery service\, only to lose her gift of flight in a moment of self-doubt.
URL:https://artsbizmiami.org/calendar/kikis-delivery-service-for-family-day/
CATEGORIES:#CoralGablesArts,Partner Events
ATTACH;FMTTYPE=image/jpeg:https://artsbizmiami.org/wp-content/uploads/2026/03/kikis-delivery-service-poster-Natalie-Cabo.jpg
END:VEVENT
BEGIN:VEVENT
DTSTART;TZID=America/New_York:20260314T110000
DTEND;TZID=America/New_York:20260314T150000
DTSTAMP:20260423T075145
CREATED:20260306T180445Z
LAST-MODIFIED:20260306T180445Z
UID:19039-1773486000-1773500400@artsbizmiami.org
SUMMARY:PAMM Free Second Saturdays: Celebrating Women in Art
DESCRIPTION:Minaya’s work brings together bold patterns\, rich textures\, and cultural references. Her vibrant compositions encourage reflection on how pattern and environment shape how we see ourselves and the world around us. \nIn partnership with Miami Kids Magazine\, families can also enjoy games\, prizes\, and special giveaways. During this free\, family-friendly program\, visitors of all ages are invited to create their own artworks inspired by Minaya’s practice. Using color\, repetition\, and imaginative patternmaking\, participants can explore personal expression and tell stories about their identities and communities. The day also includes a docent-led tour of Shadows and Traces: Selections from PAMM’s Collection\, offering deeper insight into Minaya’s work. \nJoin in for an afternoon of art-making\, interactive experiences\, and discovery as you celebrate women artists and the power of creative expression.
URL:https://artsbizmiami.org/calendar/pamm-free-second-saturdays-celebrating-women-in-art/
CATEGORIES:#DowntownMiamiArts
ATTACH;FMTTYPE=image/jpeg:https://artsbizmiami.org/wp-content/uploads/2026/03/Screen-Shot-2026-03-06-at-1.01.22-PM.jpg
END:VEVENT
BEGIN:VEVENT
DTSTART;TZID=America/New_York:20260314T120000
DTEND;TZID=America/New_York:20260314T170000
DTSTAMP:20260423T075145
CREATED:20260306T182807Z
LAST-MODIFIED:20260306T182807Z
UID:19045-1773489600-1773507600@artsbizmiami.org
SUMMARY:Free Family Fun Day
DESCRIPTION:Join History Miami on the second Saturday of each month from 12:00 p.m. to 5:00 p.m. (with activities available until 4:00 p.m.) for a fun-filled afternoon of things to do for the whole family! Enjoy free admission as you explore the history and culture of our vibrant city through engaging highlights tours\, hands-on craft activities\, and a variety of interactive experiences. Come learn\, create\, and discover—all for free!
URL:https://artsbizmiami.org/calendar/free-family-fun-day-2/
CATEGORIES:#DowntownMiamiArts
ATTACH;FMTTYPE=image/jpeg:https://artsbizmiami.org/wp-content/uploads/2026/03/Screen-Shot-2026-03-06-at-1.26.55-PM.jpg
END:VEVENT
BEGIN:VEVENT
DTSTART;TZID=America/New_York:20260314T193000
DTEND;TZID=America/New_York:20260314T213000
DTSTAMP:20260423T075145
CREATED:20260306T174934Z
LAST-MODIFIED:20260306T174934Z
UID:19036-1773516600-1773523800@artsbizmiami.org
SUMMARY:Arts Ballet Theatre of Florida: Dr. Ouch
DESCRIPTION:Join the Broward Center for the Performing Arts and Arts Ballet Theatre of Florida presents Dr. Ouch!. A humorous ballet inspired by the children’s poems of Russian author Kornei Chukovsky. It follows the quirky Doctor Ouch as he travels to Africa to cure a group of sick monkeys. \nPart of Arts Ballet’s acclaimed Family Series\, this production is a perfect introduction to ballet for young audiences—and a heartwarming and entertaining experience for all ages.
URL:https://artsbizmiami.org/calendar/arts-ballet-theatre-of-florida-dr-ouch-2/
CATEGORIES:Partner Events
ATTACH;FMTTYPE=image/jpeg:https://artsbizmiami.org/wp-content/uploads/2026/03/Dedicated-Escoop-ABTFL-Dr.OUCH-700x700-Arts-Ballet-Theatre-of-Florida-1.jpg
END:VEVENT
END:VCALENDAR