BEGIN:VCALENDAR
VERSION:2.0
PRODID:-//Arts &amp; Business Council of Miami - ECPv6.15.20//NONSGML v1.0//EN
CALSCALE:GREGORIAN
METHOD:PUBLISH
X-ORIGINAL-URL:https://artsbizmiami.org
X-WR-CALDESC:Events for Arts &amp; Business Council of Miami
REFRESH-INTERVAL;VALUE=DURATION:PT1H
X-Robots-Tag:noindex
X-PUBLISHED-TTL:PT1H
BEGIN:VTIMEZONE
TZID:America/New_York
BEGIN:DAYLIGHT
TZOFFSETFROM:-0500
TZOFFSETTO:-0400
TZNAME:EDT
DTSTART:20250309T070000
END:DAYLIGHT
BEGIN:STANDARD
TZOFFSETFROM:-0400
TZOFFSETTO:-0500
TZNAME:EST
DTSTART:20251102T060000
END:STANDARD
BEGIN:DAYLIGHT
TZOFFSETFROM:-0500
TZOFFSETTO:-0400
TZNAME:EDT
DTSTART:20260308T070000
END:DAYLIGHT
BEGIN:STANDARD
TZOFFSETFROM:-0400
TZOFFSETTO:-0500
TZNAME:EST
DTSTART:20261101T060000
END:STANDARD
BEGIN:DAYLIGHT
TZOFFSETFROM:-0500
TZOFFSETTO:-0400
TZNAME:EDT
DTSTART:20270314T070000
END:DAYLIGHT
BEGIN:STANDARD
TZOFFSETFROM:-0400
TZOFFSETTO:-0500
TZNAME:EST
DTSTART:20271107T060000
END:STANDARD
END:VTIMEZONE
BEGIN:VEVENT
DTSTART;TZID=America/New_York:20260320T120000
DTEND;TZID=America/New_York:20260322T133000
DTSTAMP:20260423T151044
CREATED:20260306T165300Z
LAST-MODIFIED:20260306T165300Z
UID:19018-1774008000-1774186200@artsbizmiami.org
SUMMARY:Turner & Constable
DESCRIPTION:Join Coral Gables Arts Cinema in celebrating the 250th anniversary of their births\, Turner & Constable explores the intertwined lives\, rivalry\, and legacies of J.M.W. Turner and John Constable. \nWith exclusive access to Tate Britain’s groundbreaking exhibition\, the film brings two titans of landscape painting to the big screen. \nScreening Dates & Times \nFriday March 20th 12PM \nSaturday March 21st 12PM \nSunday March 22nd 12PM
URL:https://artsbizmiami.org/calendar/turner-constable/
CATEGORIES:#CoralGablesArts,Partner Events
ATTACH;FMTTYPE=image/jpeg:https://artsbizmiami.org/wp-content/uploads/2026/03/turner-constable-still-00001-Natalie-Cabo.jpg
END:VEVENT
BEGIN:VEVENT
DTSTART;TZID=America/New_York:20260320T141500
DTEND;TZID=America/New_York:20260326T164500
DTSTAMP:20260423T151044
CREATED:20260320T143427Z
LAST-MODIFIED:20260320T143447Z
UID:19111-1774016100-1774543500@artsbizmiami.org
SUMMARY:All That’s Left of You
DESCRIPTION:Tap into a standout screening at Coral Gables Art Cinema. Experience the Sweet and Spicy cinema takeover of City on Fire\, where bold storytelling meets an equally bold moviegoing experience. \nEnjoy a high energy action classic on the big screen while ordering Fuku straight to your seat\, collecting exclusive merch\, and even adding Fuku seasoning to your popcorn. It is a fun\, immersive way to experience film\, flavor\, and community all in one place. \n\n\n\n\n\nShowtimes: \n\nFri\, Mar 20 2:15 PM\nSun\, Mar 22 1:45 PM\nMon\, Mar 23 8:00 \nTue\, Mar 24 8:00 PM\nThu\, Mar 26 4:45 PM
URL:https://artsbizmiami.org/calendar/all-thats-left-of-you/
CATEGORIES:#CoralGablesArts,Partner Events
ATTACH;FMTTYPE=image/jpeg:https://artsbizmiami.org/wp-content/uploads/2026/03/all-thats-left-of-you-poster.jpg
END:VEVENT
BEGIN:VEVENT
DTSTART;TZID=America/New_York:20260322T110000
DTEND;TZID=America/New_York:20260322T160000
DTSTAMP:20260423T151044
CREATED:20260320T113918Z
LAST-MODIFIED:20260320T113918Z
UID:19089-1774177200-1774195200@artsbizmiami.org
SUMMARY:Big Blue & You: Art by the Sea with Beth Bru
DESCRIPTION:Join artist Beth Bru at Big Blue & You: Art by the Sea at the Miami Beach Bandshell for a special live painting experience and interactive art workshop. This engaging session celebrates ocean conservation while inviting attendees to explore their creativity and connect art with the environment.
URL:https://artsbizmiami.org/calendar/big-blue-you-art-by-the-sea-with-beth-bru/
CATEGORIES:Miami Beach Arts,Partner Events
ATTACH;FMTTYPE=image/jpeg:https://artsbizmiami.org/wp-content/uploads/2026/03/march-22.jpeg
END:VEVENT
BEGIN:VEVENT
DTSTART;TZID=America/New_York:20260322T170000
DTEND;TZID=America/New_York:20260322T180000
DTSTAMP:20260423T151044
CREATED:20260320T125119Z
LAST-MODIFIED:20260320T125217Z
UID:19099-1774198800-1774202400@artsbizmiami.org
SUMMARY:City Reads: Global Majority
DESCRIPTION:Experience an evening of powerful storytelling with City Theatre’s City Reads\, a series of short plays that center the voices and experiences of the people who make up most of the world. Through humor\, honesty\, and heart\, these stories explore themes of family\, identity\, and love in ways that feel both intimate and deeply relatable. \nEach gathering features live readings by leading local actors\, paired with music and guided conversation\, creating a welcoming space for connection and reflection. Hosted in accessible venues across Miami\, City Reads invites audiences to engage with theatre in a meaningful and community driven way. \nFree and open to all\, this is theatre woven into the fabric of everyday life.
URL:https://artsbizmiami.org/calendar/the-ball-chain-trio/
CATEGORIES:#CoralGablesArts,Partner Events
ATTACH;FMTTYPE=image/jpeg:https://artsbizmiami.org/wp-content/uploads/2026/03/Screen-Shot-2026-03-20-at-8.42.58-AM.jpg
END:VEVENT
BEGIN:VEVENT
DTSTART;TZID=America/New_York:20260322T180000
DTEND;TZID=America/New_York:20260322T200000
DTSTAMP:20260423T151044
CREATED:20260320T121352Z
LAST-MODIFIED:20260320T121352Z
UID:19092-1774202400-1774209600@artsbizmiami.org
SUMMARY:Orchestra Miami Presents Beethoven on the Beach
DESCRIPTION:Experience an evening of powerful orchestral music featuring husband and wife duo Karen Lord Powell and Brian Powell performing Bottesini’s Gran Duo Concertante for Violin and Bass. The program also includes Beethoven’s lively Symphony No. 7 in A Major\, Op. 92\, Louise Farrenc’s Overture No. 1\, and more\, performed by a 36 piece orchestra led by Artistic Director Elaine Rinaldi. \nAdmission is free with advance reservation on a first come\, first served basis. Guests can reserve premium front seating for $25\, while a minimum $10 donation will be requested at the door for those without a reservation.
URL:https://artsbizmiami.org/calendar/orchestra-miami-presents-beethoven-on-the-beach/
ATTACH;FMTTYPE=image/jpeg:https://artsbizmiami.org/wp-content/uploads/2026/03/beethoven.jpeg
END:VEVENT
END:VCALENDAR