BEGIN:VCALENDAR
VERSION:2.0
PRODID:-//Arts &amp; Business Council of Miami - ECPv6.15.20//NONSGML v1.0//EN
CALSCALE:GREGORIAN
METHOD:PUBLISH
X-ORIGINAL-URL:https://artsbizmiami.org
X-WR-CALDESC:Events for Arts &amp; Business Council of Miami
REFRESH-INTERVAL;VALUE=DURATION:PT1H
X-Robots-Tag:noindex
X-PUBLISHED-TTL:PT1H
BEGIN:VTIMEZONE
TZID:America/New_York
BEGIN:DAYLIGHT
TZOFFSETFROM:-0500
TZOFFSETTO:-0400
TZNAME:EDT
DTSTART:20250309T070000
END:DAYLIGHT
BEGIN:STANDARD
TZOFFSETFROM:-0400
TZOFFSETTO:-0500
TZNAME:EST
DTSTART:20251102T060000
END:STANDARD
BEGIN:DAYLIGHT
TZOFFSETFROM:-0500
TZOFFSETTO:-0400
TZNAME:EDT
DTSTART:20260308T070000
END:DAYLIGHT
BEGIN:STANDARD
TZOFFSETFROM:-0400
TZOFFSETTO:-0500
TZNAME:EST
DTSTART:20261101T060000
END:STANDARD
BEGIN:DAYLIGHT
TZOFFSETFROM:-0500
TZOFFSETTO:-0400
TZNAME:EDT
DTSTART:20270314T070000
END:DAYLIGHT
BEGIN:STANDARD
TZOFFSETFROM:-0400
TZOFFSETTO:-0500
TZNAME:EST
DTSTART:20271107T060000
END:STANDARD
END:VTIMEZONE
BEGIN:VEVENT
DTSTART;TZID=America/New_York:20260327T080000
DTEND;TZID=America/New_York:20260402T213000
DTSTAMP:20260423T133823
CREATED:20260327T155711Z
LAST-MODIFIED:20260327T155711Z
UID:19144-1774598400-1775165400@artsbizmiami.org
SUMMARY:André Is an Idiot
DESCRIPTION:South Florida Theatrical Premiere \nA celebration of life filled with raw honesty\, surreal bursts of imagination\, and brazen irreverence\, André Is an Idiot shows us what it really means to live happily\, truthfully\, and hilariously. In this Sundance award winning documentary\, André Riccardi sets out to chronicle his final journey after receiving a diagnosis he could have prevented\, through comedic vérité storytelling and fantastical stop-motion interludes. \nRed Carpet Opening Night Event – Fri. 3/27\nReception at 7:30 PM\nFilm followed by a Q&A with director Tony Benna\, moderated by Allison Rose at 8:00 PM \nFilm and Q&A Event – Sat. 3/28\nFilm followed by a Q&A with director Tony Benna\, moderated by Allison Rose at 1:30 PM
URL:https://artsbizmiami.org/calendar/andre-is-an-idiot/
CATEGORIES:#CoralGablesArts,Partner Events
ATTACH;FMTTYPE=image/jpeg:https://artsbizmiami.org/wp-content/uploads/2026/03/andre-is-an-idiot-poster.jpg
END:VEVENT
BEGIN:VEVENT
DTSTART;TZID=America/New_York:20260327T170000
DTEND;TZID=America/New_York:20260402T190000
DTSTAMP:20260423T133823
CREATED:20260327T155000Z
LAST-MODIFIED:20260327T155000Z
UID:19141-1774630800-1775156400@artsbizmiami.org
SUMMARY:Palestine ’36
DESCRIPTION:Join Coral Cables Arts Cinema as they take you to 1936. As villages across Mandatory Palestine rise against British colonial rule\, Yusuf drifts between his rural home and the restless energy of Jerusalem\, longing for a future beyond the growing unrest. But history is relentless. With rising numbers of Jewish immigrants escaping antisemitism in Europe\, and the Palestinian population uniting in the largest and longest uprising against Britain’s 30-year dominion\, all sides spiral towards inevitable collision in a decisive moment for the British Empire and the future of the entire region. \nPalestine ’36 was selected as the Palestinian entry for the Best International Feature Film at the 98th Academy Awards®.
URL:https://artsbizmiami.org/calendar/palestine-36/
CATEGORIES:#CoralGablesArts,Partner Events
ATTACH;FMTTYPE=image/jpeg:https://artsbizmiami.org/wp-content/uploads/2026/03/palestine-36-poster.jpg
END:VEVENT
BEGIN:VEVENT
DTSTART;TZID=America/New_York:20260327T193000
DTEND;TZID=America/New_York:20260329T213000
DTSTAMP:20260423T133823
CREATED:20260327T135335Z
LAST-MODIFIED:20260327T135621Z
UID:19118-1774639800-1774819800@artsbizmiami.org
SUMMARY:Miami City Ballet Presents:  Jewels
DESCRIPTION:Enter a world of glamour\, elegance and pure delight in George Balanchine’s Jewels\, a three-part visual feast of color\, light and musicality. \nEmeralds shimmers with French romanticism\, set to the dreamy melodies of Fauré. Rubies crackles with jazzy energy and wit\, driven by Stravinsky’s bold rhythms. And Diamonds dazzles with sweeping Tchaikovsky\, bringing the evening to a radiant and refined close. \nThree distinct gems. One legendary masterpiece. This is Balanchine brilliance at its most radiant. \nLocation: Adrienne Arsht Center Ziff Ballet Opera House \nDates: March 27th – 29th
URL:https://artsbizmiami.org/calendar/miami-city-ballet-presents-jewels/
CATEGORIES:#DowntownMiamiArts,Partner Events
ATTACH;FMTTYPE=image/png:https://artsbizmiami.org/wp-content/uploads/2026/03/87dacc60-d55a-4fda-876a-b3167429a615-thumbnail.png
END:VEVENT
BEGIN:VEVENT
DTSTART;TZID=America/New_York:20260328T120000
DTEND;TZID=America/New_York:20260328T170000
DTSTAMP:20260423T133823
CREATED:20260327T152759Z
LAST-MODIFIED:20260327T152759Z
UID:19135-1774699200-1774717200@artsbizmiami.org
SUMMARY:Expert Tour: Renaissance to Baroque — Understanding Two Artistic Eras
DESCRIPTION:Join Lowe Art Museum in comparing the defining visual and cultural characteristics of Renaissance and Baroque painting—from harmony and ideal proportion to movement\, theatricality\, and spiritual intensity in this expert-led gallery conversation exploring key works from the Old Masters Collection.
URL:https://artsbizmiami.org/calendar/expert-tour-renaissance-to-baroque/
CATEGORIES:#CoralGablesArts,Partner Events
ATTACH;FMTTYPE=image/jpeg:https://artsbizmiami.org/wp-content/uploads/2026/03/31678596221c7590bd8da400a7ea128e069d403a.jpg
END:VEVENT
BEGIN:VEVENT
DTSTART;TZID=America/New_York:20260328T193000
DTEND;TZID=America/New_York:20260328T210000
DTSTAMP:20260423T133823
CREATED:20260320T105037Z
LAST-MODIFIED:20260320T105037Z
UID:19079-1774726200-1774731600@artsbizmiami.org
SUMMARY:Women's & Men's Voices
DESCRIPTION:Celebrate the creative life force through movement\, storytelling\, and bold exploration at the Sanctuary of the Arts with Peter London Global Dance Company. Featuring works by Stephanie Franco\, Mar’Kayla Michel\, and Kayin Knighton\, the program explores the intersection of lived experience\, artistic expression\, and gender within society’s cultural landscape. \nPeter London’s latest work for six male dancers dives into an intense emotional terrain where traditional ideas of beauty are challenged and transformed\, embracing what Martha Graham described as “divine ugliness.” \nThe evening also includes A Folk’s Tale by Jamar Roberts\, reflecting the depth and resilience of African American experiences\, and concludes with London’s Caribbean Suite\, a vibrant\, carnival inspired finale set to music by Etienne Charles.
URL:https://artsbizmiami.org/calendar/womens-mens-voices/
CATEGORIES:#CoralGablesArts,Partner Events
ATTACH;FMTTYPE=image/jpeg:https://artsbizmiami.org/wp-content/uploads/2026/03/1.jpg
END:VEVENT
END:VCALENDAR