BEGIN:VCALENDAR
VERSION:2.0
PRODID:-//Arts &amp; Business Council of Miami - ECPv6.15.20//NONSGML v1.0//EN
CALSCALE:GREGORIAN
METHOD:PUBLISH
X-WR-CALNAME:Arts &amp; Business Council of Miami
X-ORIGINAL-URL:https://artsbizmiami.org
X-WR-CALDESC:Events for Arts &amp; Business Council of Miami
REFRESH-INTERVAL;VALUE=DURATION:PT1H
X-Robots-Tag:noindex
X-PUBLISHED-TTL:PT1H
BEGIN:VTIMEZONE
TZID:America/New_York
BEGIN:DAYLIGHT
TZOFFSETFROM:-0500
TZOFFSETTO:-0400
TZNAME:EDT
DTSTART:20250309T070000
END:DAYLIGHT
BEGIN:STANDARD
TZOFFSETFROM:-0400
TZOFFSETTO:-0500
TZNAME:EST
DTSTART:20251102T060000
END:STANDARD
BEGIN:DAYLIGHT
TZOFFSETFROM:-0500
TZOFFSETTO:-0400
TZNAME:EDT
DTSTART:20260308T070000
END:DAYLIGHT
BEGIN:STANDARD
TZOFFSETFROM:-0400
TZOFFSETTO:-0500
TZNAME:EST
DTSTART:20261101T060000
END:STANDARD
BEGIN:DAYLIGHT
TZOFFSETFROM:-0500
TZOFFSETTO:-0400
TZNAME:EDT
DTSTART:20270314T070000
END:DAYLIGHT
BEGIN:STANDARD
TZOFFSETFROM:-0400
TZOFFSETTO:-0500
TZNAME:EST
DTSTART:20271107T060000
END:STANDARD
END:VTIMEZONE
BEGIN:VEVENT
DTSTART;TZID=America/New_York:20260327T080000
DTEND;TZID=America/New_York:20260402T213000
DTSTAMP:20260423T020843
CREATED:20260327T155711Z
LAST-MODIFIED:20260327T155711Z
UID:19144-1774598400-1775165400@artsbizmiami.org
SUMMARY:André Is an Idiot
DESCRIPTION:South Florida Theatrical Premiere \nA celebration of life filled with raw honesty\, surreal bursts of imagination\, and brazen irreverence\, André Is an Idiot shows us what it really means to live happily\, truthfully\, and hilariously. In this Sundance award winning documentary\, André Riccardi sets out to chronicle his final journey after receiving a diagnosis he could have prevented\, through comedic vérité storytelling and fantastical stop-motion interludes. \nRed Carpet Opening Night Event – Fri. 3/27\nReception at 7:30 PM\nFilm followed by a Q&A with director Tony Benna\, moderated by Allison Rose at 8:00 PM \nFilm and Q&A Event – Sat. 3/28\nFilm followed by a Q&A with director Tony Benna\, moderated by Allison Rose at 1:30 PM
URL:https://artsbizmiami.org/calendar/andre-is-an-idiot/
CATEGORIES:#CoralGablesArts,Partner Events
ATTACH;FMTTYPE=image/jpeg:https://artsbizmiami.org/wp-content/uploads/2026/03/andre-is-an-idiot-poster.jpg
END:VEVENT
BEGIN:VEVENT
DTSTART;TZID=America/New_York:20260327T170000
DTEND;TZID=America/New_York:20260402T190000
DTSTAMP:20260423T020843
CREATED:20260327T155000Z
LAST-MODIFIED:20260327T155000Z
UID:19141-1774630800-1775156400@artsbizmiami.org
SUMMARY:Palestine ’36
DESCRIPTION:Join Coral Cables Arts Cinema as they take you to 1936. As villages across Mandatory Palestine rise against British colonial rule\, Yusuf drifts between his rural home and the restless energy of Jerusalem\, longing for a future beyond the growing unrest. But history is relentless. With rising numbers of Jewish immigrants escaping antisemitism in Europe\, and the Palestinian population uniting in the largest and longest uprising against Britain’s 30-year dominion\, all sides spiral towards inevitable collision in a decisive moment for the British Empire and the future of the entire region. \nPalestine ’36 was selected as the Palestinian entry for the Best International Feature Film at the 98th Academy Awards®.
URL:https://artsbizmiami.org/calendar/palestine-36/
CATEGORIES:#CoralGablesArts,Partner Events
ATTACH;FMTTYPE=image/jpeg:https://artsbizmiami.org/wp-content/uploads/2026/03/palestine-36-poster.jpg
END:VEVENT
BEGIN:VEVENT
DTSTART;TZID=America/New_York:20260331T140000
DTEND;TZID=America/New_York:20260424T160000
DTSTAMP:20260423T020843
CREATED:20260327T142856Z
LAST-MODIFIED:20260327T143634Z
UID:19125-1774965600-1777046400@artsbizmiami.org
SUMMARY:MISS NELSON IS MISSING
DESCRIPTION:Miss Nelson’s class is the worst-behaved in the whole school. Spitballs flying across the room\, paper airplanes sailing every which way and uncontrollable children send gentle\, long-suffering Miss Nelson over the edge. \nBut the students of Room 207 are in for a surprise when Miss Nelson goes missing and is replaced by Viola Swamp\, a no-nonsense substitute who assigns piles of homework! The students learn lessons of appreciation and respect as they set out to find their beloved Miss Nelson… but will they ever get her back? \nShowtimes: Saturdays at 2 p.m. (No show on April 18)
URL:https://artsbizmiami.org/calendar/miss-nelson-is-missing/
CATEGORIES:#DowntownMiamiArts,Partner Events
ATTACH;FMTTYPE=image/jpeg:https://artsbizmiami.org/wp-content/uploads/2026/03/miss-nelson-1025-1.jpg
END:VEVENT
BEGIN:VEVENT
DTSTART;TZID=America/New_York:20260402T180000
DTEND;TZID=America/New_York:20260423T203000
DTSTAMP:20260423T020843
CREATED:20260327T150911Z
LAST-MODIFIED:20260327T150911Z
UID:19131-1775152800-1776976200@artsbizmiami.org
SUMMARY:In Studio: Zinc Plate Lithography
DESCRIPTION:Zinc plate lithography is one of printmaking’s most expressive processes\, often described as the printmaker’s equivalent of drawing and painting. Artists work directly on a smooth metal plate using greasy drawing materials such as lithographic crayon\, pencil and liquid tusche\, creating marks that range from delicate lines and soft washes to rich\, velvety blacks. \nOver four weeks\, students will learn how to prepare a zinc plate\, draw on it using traditional lithographic materials\, chemically process the plate and print a small edition using the Takach Lithography press. The process works through the interaction of grease and water: greasy marks attract ink while damp areas of the plate repel it. This class welcomes artists of all levels. Beginners will receive clear\, step-by-step guidance\, while more experienced artists and printmakers will have the opportunity to explore lithographic mark-making and deepen their understanding of the process. \nLocation: Oolite Arts
URL:https://artsbizmiami.org/calendar/in-studio-zinc-plate-lithography/
CATEGORIES:Miami Beach Arts,Partner Events
ATTACH;FMTTYPE=image/jpeg:https://artsbizmiami.org/wp-content/uploads/2026/03/543374529_1172992234876563_903682717399435301_n.jpg
END:VEVENT
BEGIN:VEVENT
DTSTART;TZID=America/New_York:20260402T190000
DTEND;TZID=America/New_York:20260402T230000
DTSTAMP:20260423T020843
CREATED:20260327T145353Z
LAST-MODIFIED:20260327T145508Z
UID:19128-1775156400-1775170800@artsbizmiami.org
SUMMARY:nightLAB: Forces of Nature
DESCRIPTION:Join Frost Science Museum and prepare to be blown away at nightLAB: Forces of Nature\, an adults-only (21+) evening inspired by the wild mechanics of wind\, waves\, storms and motion. Explore the museum after hours as science comes alive through high-energy experiments\, interactive programming and special experiences throughout the building. \nJourney into the Frost Planetarium for Wildest Weather in Our Solar System\, produced by National Geographic\, and witness the beautiful\, powerful and mysterious weather phenomena shaping worlds beyond our own. Connect with community partners\, wander through select exhibitions at night and experience the museum in a whole new way.
URL:https://artsbizmiami.org/calendar/nightlab-forces-of-nature/
CATEGORIES:#DowntownMiamiArts,Partner Events
ATTACH;FMTTYPE=image/jpeg:https://artsbizmiami.org/wp-content/uploads/2026/03/nightLAB-Science-Swarm-Jan-2025.jpg
END:VEVENT
END:VCALENDAR