BEGIN:VCALENDAR
VERSION:2.0
PRODID:-//Arts &amp; Business Council of Miami - ECPv6.15.20//NONSGML v1.0//EN
CALSCALE:GREGORIAN
METHOD:PUBLISH
X-ORIGINAL-URL:https://artsbizmiami.org
X-WR-CALDESC:Events for Arts &amp; Business Council of Miami
REFRESH-INTERVAL;VALUE=DURATION:PT1H
X-Robots-Tag:noindex
X-PUBLISHED-TTL:PT1H
BEGIN:VTIMEZONE
TZID:America/New_York
BEGIN:DAYLIGHT
TZOFFSETFROM:-0500
TZOFFSETTO:-0400
TZNAME:EDT
DTSTART:20240310T070000
END:DAYLIGHT
BEGIN:STANDARD
TZOFFSETFROM:-0400
TZOFFSETTO:-0500
TZNAME:EST
DTSTART:20241103T060000
END:STANDARD
BEGIN:DAYLIGHT
TZOFFSETFROM:-0500
TZOFFSETTO:-0400
TZNAME:EDT
DTSTART:20250309T070000
END:DAYLIGHT
BEGIN:STANDARD
TZOFFSETFROM:-0400
TZOFFSETTO:-0500
TZNAME:EST
DTSTART:20251102T060000
END:STANDARD
BEGIN:DAYLIGHT
TZOFFSETFROM:-0500
TZOFFSETTO:-0400
TZNAME:EDT
DTSTART:20260308T070000
END:DAYLIGHT
BEGIN:STANDARD
TZOFFSETFROM:-0400
TZOFFSETTO:-0500
TZNAME:EST
DTSTART:20261101T060000
END:STANDARD
END:VTIMEZONE
BEGIN:VEVENT
DTSTART;TZID=America/New_York:20251114T100000
DTEND;TZID=America/New_York:20251114T100000
DTSTAMP:20260424T073332
CREATED:20251113T204852Z
LAST-MODIFIED:20251113T205240Z
UID:18605-1763114400-1763114400@artsbizmiami.org
SUMMARY:Suns and Shadows – Visual Arts Exhibition
DESCRIPTION:Exploring the contrasts that define Miami – its brilliance and its burdens— Suns & Shadows honors the balance between light and shelter\, past and future\, the seen and the felt. It’s a collective act of remembering and a testament to moving forward what we have been given. Featured artists Mark Delmont\, Reginald O’Neal\, Lance Minto Strouse\, T. Eliott Mansa\, and Mark Fleuridor examine legacy and transformation through sculpture\, painting\, installation\, and textile\, illuminating how identity is shaped by both memory and imagination.
URL:https://artsbizmiami.org/calendar/suns-and-shadows-visual-arts-exhibition/
CATEGORIES:art week,Partner Events
ATTACH;FMTTYPE=image/jpeg:https://artsbizmiami.org/wp-content/uploads/2025/11/Suns-Shadows-1-Frankie-Rios.jpg
END:VEVENT
BEGIN:VEVENT
DTSTART;TZID=America/New_York:20251117T180000
DTEND;TZID=America/New_York:20251117T180000
DTSTAMP:20260424T073332
CREATED:20251110T201455Z
LAST-MODIFIED:20251110T201722Z
UID:18580-1763402400-1763402400@artsbizmiami.org
SUMMARY:Artist Talk with Environmental Photographer Mac Stone
DESCRIPTION:An evening hosted by Lesley Goldwasser at The Betsy-South Beach\, presented in partnership with the Everglades Foundation. The event features acclaimed conservation photographer Mac Stone\, whose powerful work captures the connection between people and the natural world and is currently on exhibition at The Betsy.
URL:https://artsbizmiami.org/calendar/artist-talk-with-environmental-photographer-mac-stone/
CATEGORIES:art week,Miami Beach Arts,Partner Events
ATTACH;FMTTYPE=image/avif:https://artsbizmiami.org/wp-content/uploads/2025/11/mac-stone.avif
END:VEVENT
BEGIN:VEVENT
DTSTART;VALUE=DATE:20251128
DTEND;VALUE=DATE:20251221
DTSTAMP:20260424T073332
CREATED:20251128T193844Z
LAST-MODIFIED:20251128T202923Z
UID:18698-1764288000-1766275199@artsbizmiami.org
SUMMARY:The Betsy ORB No Vacancy
DESCRIPTION:The acclaimed outdoor art installation is already transforming our façade! The Betsy ORB No Vacancy features temporary art projects that bring contemporary creativity to the heart of South Beach. Don’t miss this limited-time exhibition running through December 20\, 2025.
URL:https://artsbizmiami.org/calendar/the-betsy-orb-no-vacancy/
CATEGORIES:art week,Miami Beach Arts,Partner Events
ATTACH;FMTTYPE=image/jpeg:https://artsbizmiami.org/wp-content/uploads/2025/11/image.jpg
END:VEVENT
END:VCALENDAR