BEGIN:VCALENDAR
VERSION:2.0
PRODID:-//Arts &amp; Business Council of Miami - ECPv6.15.20//NONSGML v1.0//EN
CALSCALE:GREGORIAN
METHOD:PUBLISH
X-ORIGINAL-URL:https://artsbizmiami.org
X-WR-CALDESC:Events for Arts &amp; Business Council of Miami
REFRESH-INTERVAL;VALUE=DURATION:PT1H
X-Robots-Tag:noindex
X-PUBLISHED-TTL:PT1H
BEGIN:VTIMEZONE
TZID:America/New_York
BEGIN:DAYLIGHT
TZOFFSETFROM:-0500
TZOFFSETTO:-0400
TZNAME:EDT
DTSTART:20240310T070000
END:DAYLIGHT
BEGIN:STANDARD
TZOFFSETFROM:-0400
TZOFFSETTO:-0500
TZNAME:EST
DTSTART:20241103T060000
END:STANDARD
BEGIN:DAYLIGHT
TZOFFSETFROM:-0500
TZOFFSETTO:-0400
TZNAME:EDT
DTSTART:20250309T070000
END:DAYLIGHT
BEGIN:STANDARD
TZOFFSETFROM:-0400
TZOFFSETTO:-0500
TZNAME:EST
DTSTART:20251102T060000
END:STANDARD
BEGIN:DAYLIGHT
TZOFFSETFROM:-0500
TZOFFSETTO:-0400
TZNAME:EDT
DTSTART:20260308T070000
END:DAYLIGHT
BEGIN:STANDARD
TZOFFSETFROM:-0400
TZOFFSETTO:-0500
TZNAME:EST
DTSTART:20261101T060000
END:STANDARD
END:VTIMEZONE
BEGIN:VEVENT
DTSTART;VALUE=DATE:20251128
DTEND;VALUE=DATE:20251221
DTSTAMP:20260424T041514
CREATED:20251128T193844Z
LAST-MODIFIED:20251128T202923Z
UID:18698-1764288000-1766275199@artsbizmiami.org
SUMMARY:The Betsy ORB No Vacancy
DESCRIPTION:The acclaimed outdoor art installation is already transforming our façade! The Betsy ORB No Vacancy features temporary art projects that bring contemporary creativity to the heart of South Beach. Don’t miss this limited-time exhibition running through December 20\, 2025.
URL:https://artsbizmiami.org/calendar/the-betsy-orb-no-vacancy/
CATEGORIES:art week,Miami Beach Arts,Partner Events
ATTACH;FMTTYPE=image/jpeg:https://artsbizmiami.org/wp-content/uploads/2025/11/image.jpg
END:VEVENT
BEGIN:VEVENT
DTSTART;TZID=America/New_York:20251202T130000
DTEND;TZID=America/New_York:20251207T220000
DTSTAMP:20260424T041514
CREATED:20251128T192953Z
LAST-MODIFIED:20251128T192953Z
UID:18695-1764680400-1765144800@artsbizmiami.org
SUMMARY:Fridge Art Fair
DESCRIPTION:Fridge Art Fair returns for its 13th edition during Miami Art Week—right on the beach at the legendary Palace South Beach\, steps from the ocean and surrounded by the week’s major fairs and events. Every day December 2– 7 is FREE at Fridge\, but please provide your RSVP to get on our list to receive reminders and invitations to future events. \nFounded in 2013\, Fridge Art Fair is the inclusive\, dog-friendly boutique fair that mixes serious talent with serious fun. Past editions have celebrated icons from Freddie Mercury to Frida Kahlo\, and this year promises another unforgettable edition. \nThis year’s theme\, Faith\, Freedom\, and Careless Whispers: The George Michael Experience\, transforms the Palace and famous Palace Steps into a hub of immersive installations of art created by local and international artists. \nPresented by Hennessy – As the presenting sponsor\, Hennessy proudly brings its legacy of craftsmanship\, creativity\, and celebration to Fridge Art Fair Miami Beach 2025. This partnership perfectly aligns with Fridge’s mission to blend art\, culture\, and connection in unforgettable ways\, while also showcasing Hennessy’s unparalleled savoir-faire and dedication to inclusivity within the arts. Together\, we are committed to fostering an environment where diverse artistic expressions are celebrated\, creating a truly memorable experience for all attendees. \nrary art\, as well as the new generation of emerging stars.
URL:https://artsbizmiami.org/calendar/fridge-art-fair/
CATEGORIES:art week,Miami Beach Arts,Partner Events
ATTACH;FMTTYPE=image/jpeg:https://artsbizmiami.org/wp-content/uploads/2025/11/0-5.jpg
END:VEVENT
BEGIN:VEVENT
DTSTART;TZID=America/New_York:20251203T170000
DTEND;TZID=America/New_York:20251206T230000
DTSTAMP:20260424T041514
CREATED:20251113T211303Z
LAST-MODIFIED:20251113T211303Z
UID:18613-1764781200-1765062000@artsbizmiami.org
SUMMARY:Love of Urban Design® Week
DESCRIPTION:✨ Where culture blooms and imagination takes form. ✨ \nThis Miami Art Week\, step into Love of Urban Design® Week (LOUD Week) — an official Art of Black Miami experience presented by the Greater Miami Convention & Visitors Bureau. \nFrom December 3–6\, Miami Gardens transforms into a vibrant canvas of art\, fashion\, and innovation — where creativity meets community\, and urban sophistication takes center stage. \nImmerse yourself in curated exhibitions\, bold runway artistry\, and cultural activations redefining the future of contemporary expression.
URL:https://artsbizmiami.org/calendar/love-of-urban-design-week/
CATEGORIES:art week,Partner Events
ATTACH;FMTTYPE=image/jpeg:https://artsbizmiami.org/wp-content/uploads/2025/11/LOUD-Week-Days-3-Dr.-Karine-Melissa.jpg
END:VEVENT
BEGIN:VEVENT
DTSTART;TZID=America/New_York:20251205T093000
DTEND;TZID=America/New_York:20251207T170000
DTSTAMP:20260424T041514
CREATED:20251128T205213Z
LAST-MODIFIED:20251128T205408Z
UID:18716-1764927000-1765126800@artsbizmiami.org
SUMMARY:Umbrellas of Little Havana
DESCRIPTION:Celebrate the 13th Annual Umbrellas of Little Havana Art Festival \nStep into one of Little Havana’s most colorful traditions. The 13th Umbrellas of Little Havana Art Festival transforms the neighborhood into an outdoor gallery filled with stunning hand painted umbrellas crafted by local and international artisans. \nSpend the day exploring art\, music\, dance\, fashion\, and family friendly activities that highlight the creative heartbeat of this beloved community. From the children’s corner to live entertainment and vibrant cultural showcases\, this festival is a true Miami experience. \nFree and open to all\, the event runs December 5\, 6\, and 7 from 10 am to 5 pm at Futurama 1637. Come support local artists\, enjoy the energy of Calle Ocho\, and celebrate the spirit of Art of Black Miami.
URL:https://artsbizmiami.org/calendar/umbrellas-of-little-havana/
CATEGORIES:art week,Partner Events
ATTACH;FMTTYPE=image/jpeg:https://artsbizmiami.org/wp-content/uploads/2025/11/PHOTO-2025-11-25-06-25-28.jpg
END:VEVENT
BEGIN:VEVENT
DTSTART;TZID=America/New_York:20251206T103000
DTEND;TZID=America/New_York:20251206T120000
DTSTAMP:20260424T041514
CREATED:20251128T212208Z
LAST-MODIFIED:20251128T212255Z
UID:18719-1765017000-1765022400@artsbizmiami.org
SUMMARY:Oolite Arts: One Is Two and Two Are Many More
DESCRIPTION:Curated by Gean Moreno\nNov. 19\, 2025 – Jan. 18\, 2026 \nFeaturing works by Carlos Betancourt\, william cordova\, Dara Friedman\, Regina José Galindo\, Luis Gispert\, GeoVanna Gonzalez\, Jillian Mayer\, Robert Melee\, and Tag Purvis\, and activations such as a film series curated by Barron Sherer\, the presentation underscores how artmaking and collaboration have shaped the city’s creative fabric. \nMiami Art Week Brunch + Open Studios + Exhibition\nSaturday\, Dec. 6\, 2025\n10:30 a.m.–12:00 p.m.\nOolite Arts\, 924 Lincoln Rd.\, Miami Beach
URL:https://artsbizmiami.org/calendar/oolite-arts-one-is-two-and-two-are-many-more/
CATEGORIES:art week,Miami Beach Arts,Partner Events
ATTACH;FMTTYPE=image/webp:https://artsbizmiami.org/wp-content/uploads/2025/11/DSC_1779_784AF6F3-A82E-4395-B0E45264753B4577_4b57f17d-20b8-423b-af1c8ef00c13101b.webp
END:VEVENT
BEGIN:VEVENT
DTSTART;TZID=America/New_York:20251206T110000
DTEND;TZID=America/New_York:20251206T120000
DTSTAMP:20260424T041514
CREATED:20251128T204815Z
LAST-MODIFIED:20251128T204856Z
UID:18713-1765018800-1765022400@artsbizmiami.org
SUMMARY:Artist Sharon Louden in Conversation with Dr. Amy Galpin
DESCRIPTION:Join in for a special opportunity to hear from artist Sharon Louden in the Knight Skylight Gallery at the Freedom Tower at 11:00 AM on December 6\, 2025. Louden will be joined by Amy Galpin\, Executive Director and Head Curator\, Museum of Art and Design\, Miami Dade College. \nView Louden’s most recent commission\, Windows of Freedom Tower\, created in honor of the centennial of the Freedom Tower\, a national historic landmark. \nThis reflective sculpture includes 101 sheets of aluminum and reimagines a room that was once a busy workroom for the Miami Daily News. \nThis event is free to attend with your Freedom Tower admission ticket.
URL:https://artsbizmiami.org/calendar/artist-sharon-louden-in-conversation-with-dr-amy-galpin/
CATEGORIES:#DowntownMiamiArts,art week,Partner Events
ATTACH;FMTTYPE=image/jpeg:https://artsbizmiami.org/wp-content/uploads/2025/11/Windows-of-Freedom-Tower-2_d12652c59b18a4b6cc7e50590aac80b6.jpg
END:VEVENT
BEGIN:VEVENT
DTSTART;TZID=America/New_York:20251206T150000
DTEND;TZID=America/New_York:20251206T160000
DTSTAMP:20260424T041514
CREATED:20251128T203512Z
LAST-MODIFIED:20251128T203512Z
UID:18707-1765033200-1765036800@artsbizmiami.org
SUMMARY:Artist Talk with Dr. Deborah Willis at The Betsy
DESCRIPTION:Dr. Deborah Willis’ Reflections in Black: A Reframing (Liveright\, 2025) is an acclaimed collection of Black photography\, redefining our understanding of American history. Dr. Willis will be in conversation with Cornelius Tulloch and Joan Morgan.\n\n\n\nIn The Gallery \nThis fall\, Liveright celebrates the 25th anniversary of Dr. Deborah Willis’ Reflections in Black: A History of Black Photographers: A Reframing\, 1840 to the Present—a landmark publication that forever changed how America sees itself. First released in 2000\, Reflections in Black was the first single-volume history to center Black photographers as architects of the national image\, reframing the visual narrative of family\, identity\, and freedom across two centuries. \nNow\, Willis\, MacArthur Fellow\, curator\, and founder of NYU’s Center for Black Visual Culture\, returns with Reflections in Black: A Reframing (pub: Nov 18). This breathtaking new edition juxtaposes photographs from the original volume with 130 new images by artists such as Carrie Mae Weems\, Renee Cox\, Allison Janae Hamilton\, Andre D. Wagner\, and Hank Willis Thomas. With a new foreword by Robin D. G. Kelley and a coda by Kalia Brooks\, it re-examines the power of photography to reclaim history at a moment when archives\, memory\, and representation are under renewed pressure. \nHosted by The Betsy Hotel\, Diaspora Vibe Cultural Arts Collective\, and NYU’s Center for Black Visual Culture the afternoon will feature a small reception\, a panel of guest speakers\, and a signing with Dr. Willis. \nIn a year when questions of visibility and authorship dominate our cultural landscape\, Reflections in Black: A Reframing\, the 25th Anniversary edition feels more essential than ever—both a historical document and a living testament to the evolving language of Black photography. \n\n\n\n\nAbout the Artist \nDr. Deborah Willis is a prominent American artist\, curator\, and scholar\, currently a University Professor and Chair of the Department of Photography & Imaging at New York University (NYU). Her work focuses on African American photography\, visual culture\, and the history of Black people in America\, with extensive publications and exhibitions on these subjects. Willis is also the director of NYU’s Center for Black Visual Culture and has received numerous honors\, including a MacArthur Fellowship.
URL:https://artsbizmiami.org/calendar/artist-talk-with-dr-deborah-willis-at-the-betsy/
CATEGORIES:art week,Miami Beach Arts,Partner Events
ATTACH;FMTTYPE=image/jpeg:https://artsbizmiami.org/wp-content/uploads/2025/11/download-8.jpg
END:VEVENT
BEGIN:VEVENT
DTSTART;TZID=America/New_York:20251206T150000
DTEND;TZID=America/New_York:20251206T210000
DTSTAMP:20260424T041514
CREATED:20251117T192141Z
LAST-MODIFIED:20251117T192926Z
UID:18628-1765033200-1765054800@artsbizmiami.org
SUMMARY:9th Annual Art Blues & Soul Festival – “Class On The Grass”
DESCRIPTION:Get ready for an unforgettable afternoon of rhythm\, art\, and soul at the 9th Annual Art Blues & Soul Festival. This year’s theme\, “Class on the Grass\,” combines the best of R&B\, soul\, and visual art in a vibrant celebration of culture and creativity. Groove to live performances by Shirley Murdock\, Glenn Jones\, Meli’sa Morgan\, and Mass Production\, with Chello Davis as your host. The event is co-produced by Chico The Leo and his lively Grown Folks Night Out! This event promises music\, art\, and community like no other.
URL:https://artsbizmiami.org/calendar/9th-annual-art-blues-soul-festival-class-on-the-grass/
CATEGORIES:art week,Partner Events
ATTACH;FMTTYPE=image/jpeg:https://artsbizmiami.org/wp-content/uploads/2025/11/Art-Blues-and-Soul-Festival-Frankie-Rios.jpg
END:VEVENT
BEGIN:VEVENT
DTSTART;TZID=America/New_York:20251206T150000
DTEND;TZID=America/New_York:20251206T210000
DTSTAMP:20260424T041514
CREATED:20251128T212626Z
LAST-MODIFIED:20251128T212626Z
UID:18723-1765033200-1765054800@artsbizmiami.org
SUMMARY:9th Annual Art Blues & Soul Festival
DESCRIPTION:Get ready for a day filled with amazing art\, soulful music\, and good vibes at our 9th Annual Art Blues & Soul Festival!\n\n\n\nThe 9th Annual Art Blues & Soul Festival“Class On The Grass” serves up R&B and soul performances with captivating visual art. Come celebrate culture\, creativity\, and the vibrant energy of this unforgettable event. Featuring Shirley Murdock\, Glenn Jones\, Me’lissa Morgan and Mass Production! Hosted by Chello and co-produced by Chico The Leo and his fun-filled Grown Folks Night Out!ight Out
URL:https://artsbizmiami.org/calendar/9th-annual-art-blues-soul-festival/
CATEGORIES:art week,Partner Events
ATTACH;FMTTYPE=image/webp:https://artsbizmiami.org/wp-content/uploads/2025/11/art-blues-and-soul-festival___12164957114.webp
END:VEVENT
BEGIN:VEVENT
DTSTART;TZID=America/New_York:20251206T180000
DTEND;TZID=America/New_York:20251206T210000
DTSTAMP:20260424T041514
CREATED:20251128T191957Z
LAST-MODIFIED:20251128T192125Z
UID:18692-1765044000-1765054800@artsbizmiami.org
SUMMARY:The Main Event LOUD Week Miami Gardens
DESCRIPTION:Fashion Show\, Art Activations\, Vendors\, and so much more! \nGet ready for a powerful lineup of events that celebrate creativity\, community\, and culture. From immersive art installations and live painting to fashion shows\, panel discussions\, and networking mixers\, LOUD Week is your all-access pass to the heartbeat of the urban creative movement. Join us in amplifying the voices and visions shaping tomorrow’s culture.
URL:https://artsbizmiami.org/calendar/the-main-event-loud-week-miami-gardens/
CATEGORIES:art week,Partner Events
ATTACH;FMTTYPE=image/avif:https://artsbizmiami.org/wp-content/uploads/2025/11/d4ee98_5a41e98b029e46c5980635263d4f6c85mv2.avif
END:VEVENT
END:VCALENDAR