BEGIN:VCALENDAR
VERSION:2.0
PRODID:-//Arts &amp; Business Council of Miami - ECPv6.15.20//NONSGML v1.0//EN
CALSCALE:GREGORIAN
METHOD:PUBLISH
X-WR-CALNAME:Arts &amp; Business Council of Miami
X-ORIGINAL-URL:https://artsbizmiami.org
X-WR-CALDESC:Events for Arts &amp; Business Council of Miami
REFRESH-INTERVAL;VALUE=DURATION:PT1H
X-Robots-Tag:noindex
X-PUBLISHED-TTL:PT1H
BEGIN:VTIMEZONE
TZID:America/New_York
BEGIN:DAYLIGHT
TZOFFSETFROM:-0500
TZOFFSETTO:-0400
TZNAME:EDT
DTSTART:20240310T070000
END:DAYLIGHT
BEGIN:STANDARD
TZOFFSETFROM:-0400
TZOFFSETTO:-0500
TZNAME:EST
DTSTART:20241103T060000
END:STANDARD
BEGIN:DAYLIGHT
TZOFFSETFROM:-0500
TZOFFSETTO:-0400
TZNAME:EDT
DTSTART:20250309T070000
END:DAYLIGHT
BEGIN:STANDARD
TZOFFSETFROM:-0400
TZOFFSETTO:-0500
TZNAME:EST
DTSTART:20251102T060000
END:STANDARD
BEGIN:DAYLIGHT
TZOFFSETFROM:-0500
TZOFFSETTO:-0400
TZNAME:EDT
DTSTART:20260308T070000
END:DAYLIGHT
BEGIN:STANDARD
TZOFFSETFROM:-0400
TZOFFSETTO:-0500
TZNAME:EST
DTSTART:20261101T060000
END:STANDARD
BEGIN:DAYLIGHT
TZOFFSETFROM:-0500
TZOFFSETTO:-0400
TZNAME:EDT
DTSTART:20270314T070000
END:DAYLIGHT
BEGIN:STANDARD
TZOFFSETFROM:-0400
TZOFFSETTO:-0500
TZNAME:EST
DTSTART:20271107T060000
END:STANDARD
END:VTIMEZONE
BEGIN:VEVENT
DTSTART;TZID=America/New_York:20260215T150000
DTEND;TZID=America/New_York:20260215T163000
DTSTAMP:20260419T223215
CREATED:20260213T181613Z
LAST-MODIFIED:20260213T181613Z
UID:18928-1771167600-1771173000@artsbizmiami.org
SUMMARY:The Man Who Saves the World? Virtual Q&A with activist Patrick McCollum
DESCRIPTION:Join us for a special screening of The Man Who Saves the World?\, followed by a virtual Q&A with Patrick McCollum\, moderated by Matthew Anderson of Mosaic Miami. When acclaimed director Gabe Polsky meets spiritual journeyman McCollum\, it sparks a globe-spanning journey where the absurd and profound collide. Featuring encounters with Jane Goodall and Chief Phil Lane Jr.\, the film explores a mission that may be crazy enough to save the planet. Executive produced by Peter Farrelly and Rough House Pictures.
URL:https://artsbizmiami.org/calendar/the-man-who-saves-the-world-virtual-qa-with-activist-patrick-mccollum/
CATEGORIES:#CoralGablesArts,Partner Events
ATTACH;FMTTYPE=image/jpeg:https://artsbizmiami.org/wp-content/uploads/2026/02/The_Man_Who_Saves_the_World_TMDB-iBOdUw02yc5oQNODycDPrPWTBaw.jpg
END:VEVENT
BEGIN:VEVENT
DTSTART;TZID=America/New_York:20260214T180000
DTEND;TZID=America/New_York:20260214T220000
DTSTAMP:20260419T223215
CREATED:20260211T005959Z
LAST-MODIFIED:20260211T005959Z
UID:18889-1771092000-1771106400@artsbizmiami.org
SUMMARY:Romance Under the Stars
DESCRIPTION:Bring your valentine to Romance Under the Stars: Venice on the Water\, the City of Coral Gables’ signature Valentine’s Day dinner experience at the iconic Venetian Pool. \nEnjoy an unforgettable evening beneath the stars featuring a three-course Italian dinner\, live music and a photo booth to capture the moment\, all set within the timeless\, candlelit ambiance of this historic Coral Gables landmark. \nSpace is limited. This exclusive event is for adults ages 21 and older\, and valid photo identification is required for entry.
URL:https://artsbizmiami.org/calendar/romance-under-the-stars/
CATEGORIES:#CoralGablesArts,Partner Events
ATTACH;FMTTYPE=image/jpeg:https://artsbizmiami.org/wp-content/uploads/2026/02/Capture.jpg
END:VEVENT
BEGIN:VEVENT
DTSTART;TZID=America/New_York:20260214T120000
DTEND;TZID=America/New_York:20260214T170000
DTSTAMP:20260419T223215
CREATED:20260205T174210Z
LAST-MODIFIED:20260205T181126Z
UID:18864-1771070400-1771088400@artsbizmiami.org
SUMMARY:Free Family Fun Day
DESCRIPTION:Bring the family to HistoryMiami on the second Saturday of each month from 12:00 p.m. to 5:00 p.m. (with activities available until 4:00 p.m.) for a fun-filled afternoon of things to do for the whole family! Enjoy free admission as you explore the history and culture of our vibrant city through engaging highlights tours\, hands-on craft activities\, and a variety of interactive experiences. Come learn\, create\, and discover all for free!
URL:https://artsbizmiami.org/calendar/free-family-fun-day/
CATEGORIES:#DowntownMiamiArts,Partner Events
ATTACH;FMTTYPE=image/jpeg:https://artsbizmiami.org/wp-content/uploads/2026/02/museum-visitor-child-tropical-dreams-USS-Maine_WEB-2560x1709-1.jpg
END:VEVENT
BEGIN:VEVENT
DTSTART;TZID=America/New_York:20260214T110000
DTEND;TZID=America/New_York:20260214T150000
DTSTAMP:20260419T223215
CREATED:20260205T173738Z
LAST-MODIFIED:20260205T173738Z
UID:18861-1771066800-1771081200@artsbizmiami.org
SUMMARY:PAMM Free Second Saturdays: Everyday Objects\, Extraordinary Art
DESCRIPTION:Celebrate creativity and storytelling at PAMM Free Second Saturdays\, inspired by Woody De Othello: coming forth by day. In honor of Black History Month\, families are invited to explore how art can reflect identity\, imagination\, and the powerful connections between people and everyday objects. Kids and adults can dive into hands-on art activities that play with symbols\, shapes\, and familiar forms—transforming the ordinary into something unexpected. Throughout the day\, enjoy lively performances by Delou Africa\, Inc.\, featuring traditional African dance and drumming\, alongside a family-friendly poetry activation presented by BIPOC Poetry Night\, led by curator\, writer\, and community arts organizer Brianna Clara.
URL:https://artsbizmiami.org/calendar/pamm-free-second-saturdays-everyday-objects-extraordinary-art/
CATEGORIES:#DowntownMiamiArts,Partner Events
ATTACH;FMTTYPE=image/jpeg:https://artsbizmiami.org/wp-content/uploads/2026/02/40e9611e-eae5-492c-a7c5-981e70f3bdde-1536x1024-1.jpg
END:VEVENT
BEGIN:VEVENT
DTSTART;TZID=America/New_York:20260214T110000
DTEND;TZID=America/New_York:20260214T120000
DTSTAMP:20260419T223215
CREATED:20260211T015116Z
LAST-MODIFIED:20260211T015116Z
UID:18898-1771066800-1771070400@artsbizmiami.org
SUMMARY:LOWE Expert Tour in Spanish: Amor en la Galeria Kress
DESCRIPTION:Celebre el Día de San Valentín en el Lowe con una visita guiada EN ESPAÑOL centrada en obras de arte que representan el amor en todas sus manifestaciones. Dirigida por la docente voluntaria Pat Garffer.
URL:https://artsbizmiami.org/calendar/lowe-expert-tour-in-spanish-amor-en-la-galeria-kress/
CATEGORIES:#CoralGablesArts,Partner Events
ATTACH;FMTTYPE=image/jpeg:https://artsbizmiami.org/wp-content/uploads/2026/02/67016d1f711e2c3cfe4023652fe51741db0a4dad.jpg
END:VEVENT
BEGIN:VEVENT
DTSTART;TZID=America/New_York:20260212T173000
DTEND;TZID=America/New_York:20260212T193000
DTSTAMP:20260419T223215
CREATED:20260205T182343Z
LAST-MODIFIED:20260205T182343Z
UID:18882-1770917400-1770924600@artsbizmiami.org
SUMMARY:Music at McBride Plaza
DESCRIPTION:Music at McBride Plaza presents free outdoor concerts every other Thursday of the month from January through March. Every concert will feature a different and talented ensemble from UM’s Frost School of Music.  \nEnjoy these outdoor concerts in the heart of Downtown Coral Gables from 5:30 to 7:30 p.m.
URL:https://artsbizmiami.org/calendar/music-at-mcbride-plaza/
CATEGORIES:#CoralGablesArts,Partner Events
ATTACH;FMTTYPE=image/jpeg:https://artsbizmiami.org/wp-content/uploads/2026/02/https___cdn.evbuc_.com_images_1173867316_155856035389_1_original.jpg
END:VEVENT
BEGIN:VEVENT
DTSTART;TZID=America/New_York:20260209T180000
DTEND;TZID=America/New_York:20260209T200000
DTSTAMP:20260419T223215
CREATED:20260206T171615Z
LAST-MODIFIED:20260206T171615Z
UID:18886-1770660000-1770667200@artsbizmiami.org
SUMMARY:Noche de Arte
DESCRIPTION:Experience Miami’s growing creative community hub every Monday night with collaboARTive’s Noche de Arte at InterContinental Miami’s Gallery 100. Hosted every Monday\, 6 PM to 8 PM\, Noche de Arte is a weekly arts activation and exhibition that breaks down barriers between artist and viewer and creates opportunities for conversation and community. \nMeet February Artist in Residence Zion Rozier \nZion Rozier is a Miami-born visual artist who uses his work—often featuring vibrant colors\, symbolism\, and mediums like colored pencils\, oil\, and acrylic—to express healing\, resilience\, and gratitude after experiencing early loss and trauma\, particularly gun violence in his neighborhood\, inspiring others to find inner peace and positivity through faith and art. He focuses on uplifting his community\, teaching\, and exhibiting at South Florida art festivals.
URL:https://artsbizmiami.org/calendar/noche-de-arte/
CATEGORIES:#DowntownMiamiArts,Partner Events
ATTACH;FMTTYPE=image/jpeg:https://artsbizmiami.org/wp-content/uploads/2026/02/https___cdn.evbuc_.com_images_1176356946_1131854515263_1_logo.jpg
END:VEVENT
BEGIN:VEVENT
DTSTART;TZID=America/New_York:20260208T130000
DTEND;TZID=America/New_York:20260208T143000
DTSTAMP:20260419T223215
CREATED:20260205T174906Z
LAST-MODIFIED:20260205T174906Z
UID:18867-1770555600-1770561000@artsbizmiami.org
SUMMARY:Workshop: Nail Art Techniques with Kro Vargas
DESCRIPTION:Don’t miss the opportunity to try your hand at nail art design under the guidance of master nail artist\, Kro Vargas\, HistoryMiami’s artist-in-residence. Kro will lead a small group in nail art techniques\, including one-stroke flowers. Join us at Spring with Friends Salon for an afternoon of culture and creativity! Space is limited and registration is required. \nLocation: Spring with Friends Salon – 8325 NE 2nd Ave #210\, Miami\, FL 33138
URL:https://artsbizmiami.org/calendar/workshop-nail-art-techniques-with-kro-vargas/
CATEGORIES:#DowntownMiamiArts,Partner Events
ATTACH;FMTTYPE=image/jpeg:https://artsbizmiami.org/wp-content/uploads/2026/02/004-1-scaled-1.jpg
END:VEVENT
BEGIN:VEVENT
DTSTART;TZID=America/New_York:20260207T193000
DTEND;TZID=America/New_York:20260207T210000
DTSTAMP:20260419T223215
CREATED:20260205T181814Z
LAST-MODIFIED:20260205T181814Z
UID:18879-1770492600-1770498000@artsbizmiami.org
SUMMARY:Arts Ballet Theatre of Florida
DESCRIPTION:We return to the intimate Sanctuary of the Arts in Coral Gables for a special program featuring excerpts from the 25/26 repertoire such as excerpts of Firebird\, and other classical and neoclassical works. \nThis performance is presented with the generous support of the Miami-Dade County Department of Cultural Affairs and the City of Coral Gables.
URL:https://artsbizmiami.org/calendar/arts-ballet-theatre-of-florida/
CATEGORIES:#CoralGablesArts,Partner Events
ATTACH;FMTTYPE=image/avif:https://artsbizmiami.org/wp-content/uploads/2026/02/5142de_ec5250e3bf83461ea2454a3ec917cf3cmv2.avif
END:VEVENT
BEGIN:VEVENT
DTSTART;TZID=America/New_York:20260207T180000
DTEND;TZID=America/New_York:20260207T210000
DTSTAMP:20260419T223215
CREATED:20260205T172444Z
LAST-MODIFIED:20260205T172444Z
UID:18855-1770487200-1770498000@artsbizmiami.org
SUMMARY:Street Stages
DESCRIPTION:The evening features Ben Beal\, bringing his smooth mix of jazz\, pop\, and soul to the stage from 6:00–6:45pm\, followed by Cachita Lopez\, who lights up the night from 7:00–8:45pm with a vibrant\, bilingual blend of Latin jazz\, traditional Cuban rhythms\, disco\, freestyle\, and timeless classics.
URL:https://artsbizmiami.org/calendar/street-stages/
CATEGORIES:#DowntownMiamiArts,Partner Events
ATTACH;FMTTYPE=image/jpeg:https://artsbizmiami.org/wp-content/uploads/2026/02/240418-cover_orig.jpg
END:VEVENT
BEGIN:VEVENT
DTSTART;TZID=America/New_York:20260207T170000
DTEND;TZID=America/New_York:20260207T184000
DTSTAMP:20260419T223215
CREATED:20260105T192409Z
LAST-MODIFIED:20260105T192409Z
UID:18784-1770483600-1770489600@artsbizmiami.org
SUMMARY:LP And The Vinyl – Soul & The American Songbook
DESCRIPTION:LP and The Vinyl reimagine hits by The Beatles\, David Bowie\, Stevie Wonder\, and more with their signature jazz flair. Journey through time with Leonard Patton’s magnetic vocals infused with the dynamic interplay between pianist Danny Green\, bassist Justin Grinnell\, and drummer Julien Cantelm. \nGet your tickets here.
URL:https://artsbizmiami.org/calendar/lp-and-the-vinyl-soul-the-american-songbook/
CATEGORIES:Partner Events
ATTACH;FMTTYPE=image/jpeg:https://artsbizmiami.org/wp-content/uploads/2026/01/LP-The-Vinyl-Frankie-Rios.jpg
END:VEVENT
BEGIN:VEVENT
DTSTART;TZID=America/New_York:20260207T120000
DTEND;TZID=America/New_York:20260207T200000
DTSTAMP:20260419T223215
CREATED:20260205T171742Z
LAST-MODIFIED:20260205T171742Z
UID:18852-1770465600-1770494400@artsbizmiami.org
SUMMARY:Heritage Fest
DESCRIPTION:Join us for a day of free\, family-friendly fun at the seventh annual Heritage Fest at the Arsht Center. Whether you stay for a set or the whole show\, you’ll enjoy vibrant performances\, local food vendors and interactive activities that celebrate the richness of Pan-African culture. Heritage Fest kicks off with family-friendly fun in the afternoon and wraps with an 18+ Juke Joint party to keep the energy going into the evening. Pay What You Can Starting at $0
URL:https://artsbizmiami.org/calendar/heritage-fest/
CATEGORIES:#DowntownMiamiArts,Partner Events
ATTACH;FMTTYPE=image/jpeg:https://artsbizmiami.org/wp-content/uploads/2026/02/heritage-fest-2526-1920x1080-1.jpg
END:VEVENT
BEGIN:VEVENT
DTSTART;TZID=America/New_York:20260206T193000
DTEND;TZID=America/New_York:20260206T210000
DTSTAMP:20260419T223215
CREATED:20260105T192029Z
LAST-MODIFIED:20260105T192029Z
UID:18778-1770406200-1770411600@artsbizmiami.org
SUMMARY:A Taste of Ireland
DESCRIPTION:A Taste of Ireland: The Irish Music & Dance Sensation brings world-class dancers – including former World Irish dance champions and performers from Lord of the Dance and Riverdance – for a high-energy journey through Ireland’s history. The performance blends lively folk mashups with a cappella tap battles and reimagined classics like “Danny Boy” and “Wild Rover\,” delivering plenty of Irish wit for an unforgettable night. \nGet your tickets here.
URL:https://artsbizmiami.org/calendar/a-taste-of-ireland/
CATEGORIES:Partner Events
ATTACH;FMTTYPE=image/jpeg:https://artsbizmiami.org/wp-content/uploads/2026/01/A-Taste-of-Ireland.jpg
END:VEVENT
BEGIN:VEVENT
DTSTART;TZID=America/New_York:20260206T180000
DTEND;TZID=America/New_York:20260206T220000
DTSTAMP:20260419T223215
CREATED:20260205T180911Z
LAST-MODIFIED:20260205T181029Z
UID:18870-1770400800-1770415200@artsbizmiami.org
SUMMARY:Gables Gallery Night
DESCRIPTION:Coral Gables galleries and participating art venues open their doors on the first Friday of the month from 6 to 10 p.m. as part of Coral Gables Gallery Night. At this monthly event\, attendees can enjoy live music and fine art while enjoying a night out in the City Beautiful.  \nVisitors are encouraged to use the city’s trolleys or Freebee on-demand vehicles to travel between galleries.
URL:https://artsbizmiami.org/calendar/gables-gallery-night/
CATEGORIES:#CoralGablesArts,Partner Events
ATTACH;FMTTYPE=image/jpeg:https://artsbizmiami.org/wp-content/uploads/2026/02/Screen-Shot-2022-11-04-at-8.03.46-AM.jpg
END:VEVENT
BEGIN:VEVENT
DTSTART;TZID=America/New_York:20260205T200000
DTEND;TZID=America/New_York:20260205T230000
DTSTAMP:20260419T223215
CREATED:20260205T171040Z
LAST-MODIFIED:20260205T171040Z
UID:18849-1770321600-1770332400@artsbizmiami.org
SUMMARY:Thursdays at PAMM: Weekend Warm Up with Pressure Point
DESCRIPTION:Celebrate the art and sounds of the Caribbean with live music by Pressure Point on our waterfront terrace. Inside the museum\, before the music begins\, join us at 7pm for a special program bringing together Caribbean art\, culture\, and community. Presented through Pérez Art Museum Miami’s (PAMM) Green Family Foundation Caribbean Cultural Institute\, the program features British-Trinidadian artist Zak Ové as part of the Scholl Lecture Series.
URL:https://artsbizmiami.org/calendar/thursdays-at-pamm-weekend-warm-up-with-pressure-point/
CATEGORIES:#DowntownMiamiArts,Partner Events
ATTACH;FMTTYPE=image/jpeg:https://artsbizmiami.org/wp-content/uploads/2026/02/DJ-Pressure-Point_Akia-Dorsainvil-2-1536x1024-1.jpg
END:VEVENT
BEGIN:VEVENT
DTSTART;TZID=America/New_York:20260201T160000
DTEND;TZID=America/New_York:20260201T170000
DTSTAMP:20260419T223215
CREATED:20260105T193437Z
LAST-MODIFIED:20260105T193437Z
UID:18795-1769961600-1769965200@artsbizmiami.org
SUMMARY:Classical Classics: The Monet of Music
DESCRIPTION:Ringing in the New Year with excitement\, Dranoff 2 Piano Fusion welcomes piano duo sensation Genova & Dimitrov\, arriving from Germany and making their first North American tour stop with us as they celebrate 30 years together!
URL:https://artsbizmiami.org/calendar/classical-classics-the-monet-of-music/
CATEGORIES:Partner Events
ATTACH;FMTTYPE=image/jpeg:https://artsbizmiami.org/wp-content/uploads/2026/01/DR-22057-Genova-Dimitrov-Social-Graphics-v3-01-Vanessa-Contreras.jpg
END:VEVENT
BEGIN:VEVENT
DTSTART;TZID=America/New_York:20260201T153000
DTEND;TZID=America/New_York:20260201T170000
DTSTAMP:20260419T223215
CREATED:20260105T192801Z
LAST-MODIFIED:20260105T192801Z
UID:18792-1769959800-1769965200@artsbizmiami.org
SUMMARY:In Pour Taste – A Comedy Wine Tasting Experience
DESCRIPTION:Join comedians Sweeney Preston and Ethan Cavanagh pair five wines with five hilarious stand-up sets only at the Moss Center. In this unique tasting experience that promises serves up equal parts laughter and libation.
URL:https://artsbizmiami.org/calendar/in-pour-taste-a-comedy-wine-tasting-experience-3/
CATEGORIES:Partner Events
ATTACH;FMTTYPE=image/jpeg:https://artsbizmiami.org/wp-content/uploads/2026/01/In-Pour-Taste-Frankie-Rios.jpg
END:VEVENT
BEGIN:VEVENT
DTSTART;TZID=America/New_York:20260201T150000
DTEND;TZID=America/New_York:20260201T163000
DTSTAMP:20260419T223215
CREATED:20260105T190703Z
LAST-MODIFIED:20260105T190807Z
UID:18770-1769958000-1769963400@artsbizmiami.org
SUMMARY:Les Ballets Africains - "A Performance for the World"
DESCRIPTION:Experience the Moss Center debut of Les Ballets Africains\, the world-renowned national dance company of the Republic of Guinea. Founded by celebrated Guinean choreographer Keita Fodeba\, the company blends traditional African dance\, music\, rhythm\, and storytelling into a vivid expression of cultural heritage. Get your tickets here.
URL:https://artsbizmiami.org/calendar/les-ballets-africains-a-performance-for-the-world/
CATEGORIES:Partner Events
ATTACH;FMTTYPE=image/jpeg:https://artsbizmiami.org/wp-content/uploads/2026/01/Les-Ballets-Africains-A-Performance-for-the-World.jpg
END:VEVENT
BEGIN:VEVENT
DTSTART;TZID=America/New_York:20260131T173000
DTEND;TZID=America/New_York:20260131T220000
DTSTAMP:20260419T223215
CREATED:20260105T192525Z
LAST-MODIFIED:20260105T192525Z
UID:18787-1769880600-1769896800@artsbizmiami.org
SUMMARY:In Pour Taste – A Comedy Wine Tasting Experience
DESCRIPTION:Join comedians Sweeney Preston and Ethan Cavanagh pair five wines with five hilarious stand-up sets only at the Moss Center. In this unique tasting experience that promises serves up equal parts laughter and libation.
URL:https://artsbizmiami.org/calendar/in-pour-taste-a-comedy-wine-tasting-experience-2/
CATEGORIES:Partner Events
ATTACH;FMTTYPE=image/jpeg:https://artsbizmiami.org/wp-content/uploads/2026/01/In-Pour-Taste-Frankie-Rios.jpg
END:VEVENT
BEGIN:VEVENT
DTSTART;TZID=America/New_York:20260130T203000
DTEND;TZID=America/New_York:20260130T223000
DTSTAMP:20260419T223215
CREATED:20260105T192219Z
LAST-MODIFIED:20260105T192219Z
UID:18781-1769805000-1769812200@artsbizmiami.org
SUMMARY:In Pour Taste – A Comedy Wine Tasting Experience
DESCRIPTION:Join comedians Sweeney Preston and Ethan Cavanagh pair five wines with five hilarious stand-up sets only at the Moss Center. In this unique tasting experience that promises serves up equal parts laughter and libation.
URL:https://artsbizmiami.org/calendar/in-pour-taste-a-comedy-wine-tasting-experience/
CATEGORIES:Partner Events
ATTACH;FMTTYPE=image/jpeg:https://artsbizmiami.org/wp-content/uploads/2026/01/In-Pour-Taste-Frankie-Rios.jpg
END:VEVENT
BEGIN:VEVENT
DTSTART;TZID=America/New_York:20260124T170000
DTEND;TZID=America/New_York:20260125T150000
DTSTAMP:20260419T223215
CREATED:20260105T191752Z
LAST-MODIFIED:20260105T191752Z
UID:18775-1769274000-1769353200@artsbizmiami.org
SUMMARY:Monica Bill Barnes & Company – Many Happy Returns
DESCRIPTION:Join the Moss Center for a New York Times Critic’s Pick\, this witty and heartfelt dance-theater piece explores memory\, identity\, and connection. Featuring Monica Bill Barnes and Robbie Saenz de Viteri\, the production fuses movement and storytelling with humor and humanity.
URL:https://artsbizmiami.org/calendar/monica-bill-barnes-company-many-happy-returns/
CATEGORIES:Partner Events
ATTACH;FMTTYPE=image/jpeg:https://artsbizmiami.org/wp-content/uploads/2026/01/Monica-Bill-Barnes-v1.1-Frankie-Rios.jpg
END:VEVENT
BEGIN:VEVENT
DTSTART;TZID=America/New_York:20260124T140000
DTEND;TZID=America/New_York:20260124T150000
DTSTAMP:20260419T223215
CREATED:20260105T190522Z
LAST-MODIFIED:20260105T190522Z
UID:18771-1769263200-1769266800@artsbizmiami.org
SUMMARY:Curious George – The Golden Meatball
DESCRIPTION:Everyone’s favorite monkey stars in a delightful family musical about friendship\, fun\, and the joy of cooking. This new adventure\, based on the beloved PBS series\, will have kids laughing and singing along.
URL:https://artsbizmiami.org/calendar/curious-george-the-golden-meatball/
CATEGORIES:Partner Events
ATTACH;FMTTYPE=image/jpeg:https://artsbizmiami.org/wp-content/uploads/2026/01/Curious-George-v1-Frankie-Rios.jpg
END:VEVENT
BEGIN:VEVENT
DTSTART;TZID=America/New_York:20260122T190000
DTEND;TZID=America/New_York:20260122T210000
DTSTAMP:20260419T223215
CREATED:20260105T185518Z
LAST-MODIFIED:20260105T185518Z
UID:18767-1769108400-1769115600@artsbizmiami.org
SUMMARY:The World Famous Glenn Miller Orchestra
DESCRIPTION:The most popular big band of all time returns with its timeless swing classics\, including “In The Mood\,” “Chattanooga Choo Choo\,” and “Moonlight Serenade.” Enjoy this nostalgic evening of pure Americana.
URL:https://artsbizmiami.org/calendar/the-world-famous-glenn-miller-orchestra/
CATEGORIES:Partner Events
ATTACH;FMTTYPE=image/png:https://artsbizmiami.org/wp-content/uploads/2026/01/Glenn-Miller-v2-Frankie-Rios.png
END:VEVENT
BEGIN:VEVENT
DTSTART;TZID=America/New_York:20260118T190000
DTEND;TZID=America/New_York:20260118T203000
DTSTAMP:20260419T223215
CREATED:20260105T184637Z
LAST-MODIFIED:20260105T184637Z
UID:18764-1768762800-1768768200@artsbizmiami.org
SUMMARY:Direct From Sweden – The Music Of ABBA
DESCRIPTION:Relive the magic of ABBA with this world-class tribute direct from Sweden. Featuring authentic costumes\, impeccable vocals\, and classic hits like “Mamma Mia\,” “Waterloo\,” and “Dancing Queen\,” this concert will have audiences singing and dancing all night long.
URL:https://artsbizmiami.org/calendar/direct-from-sweden-the-music-of-abba/
CATEGORIES:Partner Events
ATTACH;FMTTYPE=image/jpeg:https://artsbizmiami.org/wp-content/uploads/2026/01/Music-OF-ABBA-v1-Frankie-Rios.jpg
END:VEVENT
BEGIN:VEVENT
DTSTART;TZID=America/New_York:20260117T200000
DTEND;TZID=America/New_York:20260117T214500
DTSTAMP:20260419T223215
CREATED:20260105T182321Z
LAST-MODIFIED:20260105T182321Z
UID:18761-1768680000-1768686300@artsbizmiami.org
SUMMARY:Laila Biali Plays Joni Mitchell & The Canadian Songbook
DESCRIPTION:Multi-award-winning vocalist and pianist Laila Biali performs the music of Canada’s most beloved songwriters – from Leonard Cohen and Neil Young to k.d. lang and Sarah McLachlan – blending jazz\, pop\, and heartfelt storytelling.
URL:https://artsbizmiami.org/calendar/laila-biali-plays-joni-mitchell-the-canadian-songbook/
CATEGORIES:Partner Events
ATTACH;FMTTYPE=image/jpeg:https://artsbizmiami.org/wp-content/uploads/2026/01/Laila-Biali-Frankie-Rios.jpg
END:VEVENT
BEGIN:VEVENT
DTSTART;TZID=America/New_York:20260117T110000
DTEND;TZID=America/New_York:20260117T120000
DTSTAMP:20260419T223215
CREATED:20251210T221501Z
LAST-MODIFIED:20251210T221609Z
UID:18735-1768647600-1768651200@artsbizmiami.org
SUMMARY:Fruits of the Spirit – Opening Reception
DESCRIPTION:Experience Beth Bru’s first Miami solo show\, exploring the nine virtues of Galatians 5:22–23\, love\, joy\, peace\, patience\, kindness\, goodness\, faithfulness\, gentleness\, and self-control\, through bold\, large-scale paintings and reflective visual storytelling. Join the artist for an exclusive first look\, live music\, and insights into her faith-driven practice. \nParking available for $5 with validation at the Miami-Dade Cultural Center Garage\, located at 50 NW 2nd Ave\, Miami\, FL 33128.
URL:https://artsbizmiami.org/calendar/fruitsofthespirit-bethbru/
CATEGORIES:#DowntownMiamiArts,Partner Events
ATTACH;FMTTYPE=image/jpeg:https://artsbizmiami.org/wp-content/uploads/2025/12/IMG_4189-Beth-Bru-e1765404203591.jpg
END:VEVENT
BEGIN:VEVENT
DTSTART;TZID=America/New_York:20260116T200000
DTEND;TZID=America/New_York:20260117T220000
DTSTAMP:20260419T223215
CREATED:20251211T180211Z
LAST-MODIFIED:20251211T180211Z
UID:18738-1768593600-1768687200@artsbizmiami.org
SUMMARY:Burlesque Magnifique
DESCRIPTION:Step into a world of sparkling elegance\, vintage flair\, and irresistible tease with this ninety minute burlesque revue inspired by the golden era of cabaret. At the Dennis C. Moss Cultural Arts Center in Cutler Bay\, dazzling showgirls\, captivating vocalists\, and a live jazz band come together for a night filled with thrill\, glamour\, and pure entertainment. \n10950 SW 211 Street\, Cutler Bay\, FL 33189
URL:https://artsbizmiami.org/calendar/burlesque-magnifique/
CATEGORIES:Partner Events
ATTACH;FMTTYPE=image/jpeg:https://artsbizmiami.org/wp-content/uploads/2025/12/Burlesque-Magnifique-Frankie-Rios.jpg
END:VEVENT
BEGIN:VEVENT
DTSTART;TZID=America/New_York:20251227T110000
DTEND;TZID=America/New_York:20251227T150000
DTSTAMP:20260419T223215
CREATED:20251219T213101Z
LAST-MODIFIED:20251219T213152Z
UID:18743-1766833200-1766847600@artsbizmiami.org
SUMMARY:PAMM Art Storytime: Clay\, Spirit\, and Everyday Magic
DESCRIPTION:PAMM Art Storytime invites little ones and their families to explore how everyday objects can spark imagination and big feelings. Inspired by Woody De Othello’s coming forth by day\, the program includes a read-along\, hands-on sensory play\, and a clay-inspired art activity. Free with RSVP; space is limited and pre-registration is required.
URL:https://artsbizmiami.org/calendar/pamm-art-storytime/
CATEGORIES:#DowntownMiamiArts
ATTACH;FMTTYPE=image/jpeg:https://artsbizmiami.org/wp-content/uploads/2025/12/IMG_9153-Enhanced-NR-1536x1024-1.jpg
END:VEVENT
BEGIN:VEVENT
DTSTART;TZID=America/New_York:20251222T170000
DTEND;TZID=America/New_York:20251222T193000
DTSTAMP:20260419T223215
CREATED:20251117T194919Z
LAST-MODIFIED:20251117T194919Z
UID:18635-1766422800-1766431800@artsbizmiami.org
SUMMARY:A Charlie Brown Christmas Concert
DESCRIPTION:Celebrate the holiday season with award-winning pianist Dr. Zachary Bartholomew and his trio in a joyful tribute to Vince Guaraldi’s timeless music. This interactive concert blends world-class jazz performance with stories about Guaraldi’s life and his beloved “A Charlie Brown Christmas” score\, creating a festive experience for audiences of all ages.
URL:https://artsbizmiami.org/calendar/a-charlie-brown-christmas-concert/
CATEGORIES:Holiday Events,Partner Events
ATTACH;FMTTYPE=image/jpeg:https://artsbizmiami.org/wp-content/uploads/2025/11/Charlie-Brown-Frankie-Rios.jpg
END:VEVENT
BEGIN:VEVENT
DTSTART;TZID=America/New_York:20251221T100000
DTEND;TZID=America/New_York:20251221T130000
DTSTAMP:20260419T223215
CREATED:20251219T214023Z
LAST-MODIFIED:20251219T214023Z
UID:18746-1766311200-1766322000@artsbizmiami.org
SUMMARY:Sensory Sunday @ HistoryMiami
DESCRIPTION:Sensory Sundays offer a welcoming\, inclusive museum experience for families with children\, teens\, and young adults who are neurodiverse or have sensory or cognitive disabilities. Explore Tropical Dreams: A People’s History of South Florida through a touch tour\, enjoy the galleries at your own pace\, and spend time in the sensory-inclusive room and interactive building blocks area. Free with required registration; capacity is limited and available on a first-come\, first-served basis.
URL:https://artsbizmiami.org/calendar/sensory-sunday-historymiami/
CATEGORIES:#DowntownMiamiArts,Partner Events
ATTACH;FMTTYPE=image/jpeg:https://artsbizmiami.org/wp-content/uploads/2025/12/sensory-sunday-at-historymiami.jpg
END:VEVENT
END:VCALENDAR