BEGIN:VCALENDAR
VERSION:2.0
PRODID:-//Arts &amp; Business Council of Miami - ECPv6.15.20//NONSGML v1.0//EN
CALSCALE:GREGORIAN
METHOD:PUBLISH
X-WR-CALNAME:Arts &amp; Business Council of Miami
X-ORIGINAL-URL:https://artsbizmiami.org
X-WR-CALDESC:Events for Arts &amp; Business Council of Miami
REFRESH-INTERVAL;VALUE=DURATION:PT1H
X-Robots-Tag:noindex
X-PUBLISHED-TTL:PT1H
BEGIN:VTIMEZONE
TZID:America/New_York
BEGIN:DAYLIGHT
TZOFFSETFROM:-0500
TZOFFSETTO:-0400
TZNAME:EDT
DTSTART:20250309T070000
END:DAYLIGHT
BEGIN:STANDARD
TZOFFSETFROM:-0400
TZOFFSETTO:-0500
TZNAME:EST
DTSTART:20251102T060000
END:STANDARD
BEGIN:DAYLIGHT
TZOFFSETFROM:-0500
TZOFFSETTO:-0400
TZNAME:EDT
DTSTART:20260308T070000
END:DAYLIGHT
BEGIN:STANDARD
TZOFFSETFROM:-0400
TZOFFSETTO:-0500
TZNAME:EST
DTSTART:20261101T060000
END:STANDARD
BEGIN:DAYLIGHT
TZOFFSETFROM:-0500
TZOFFSETTO:-0400
TZNAME:EDT
DTSTART:20270314T070000
END:DAYLIGHT
BEGIN:STANDARD
TZOFFSETFROM:-0400
TZOFFSETTO:-0500
TZNAME:EST
DTSTART:20271107T060000
END:STANDARD
END:VTIMEZONE
BEGIN:VEVENT
DTSTART;TZID=America/New_York:20260424T193000
DTEND;TZID=America/New_York:20260424T204500
DTSTAMP:20260422T202153
CREATED:20260420T194032Z
LAST-MODIFIED:20260420T194032Z
UID:19277-1777059000-1777063500@artsbizmiami.org
SUMMARY:Legendary Cuban Sounds
DESCRIPTION:Legendary Cuban Sound bring the raw\, rhythmic soul of classic Cuba to life. With a driving rhythm section\, punchy horns and rich vocal harmonies\, the band capture the sound of vintage Havana: refined\, lively and built for dancing. \nTheir set list moves effortlessly through son\, cha-cha\, mambo and Latin jazz\, paying tribute to the golden era of Cuban music while keeping the energy current. Every performance is bold\, stylish and fun \nLocation: Adrienne Arsht Center
URL:https://artsbizmiami.org/calendar/legendary-cuban-sounds/
CATEGORIES:#DowntownMiamiArts,Partner Events
ATTACH;FMTTYPE=image/jpeg:https://artsbizmiami.org/wp-content/uploads/2026/04/images-2.jpg
END:VEVENT
BEGIN:VEVENT
DTSTART;TZID=America/New_York:20260424T193000
DTEND;TZID=America/New_York:20260424T213000
DTSTAMP:20260422T202153
CREATED:20260420T193118Z
LAST-MODIFIED:20260420T193118Z
UID:19273-1777059000-1777066200@artsbizmiami.org
SUMMARY:Party On The Plaza Featuring The Boneshakers
DESCRIPTION:Get ready for an electrifying outdoor concert with The Boneshakers\, the legendary funk and soul band led by acclaimed guitarist Randy Jacobs. Known for their high-energy performances and deep roots in blues\, rock\, and R&B\, the group delivers a powerful sound shaped by decades of touring and collaboration with some of the biggest names in music. Blending gritty grooves with irresistible rhythms\, this dynamic ensemble promises a night of nonstop dancing and feel-good vibes. \nLocation: The Dennis C. Moss Cultural Arts Center
URL:https://artsbizmiami.org/calendar/party-on-the-plaza-featuring-the-boneshakers/
CATEGORIES:Partner Events
ATTACH;FMTTYPE=image/jpeg:https://artsbizmiami.org/wp-content/uploads/2026/04/maxresdefault.jpg
END:VEVENT
BEGIN:VEVENT
DTSTART;TZID=America/New_York:20260424T200000
DTEND;TZID=America/New_York:20260503T213000
DTSTAMP:20260422T202153
CREATED:20260420T195030Z
LAST-MODIFIED:20260420T195030Z
UID:19280-1777060800-1777843800@artsbizmiami.org
SUMMARY:Memory & Betrayal In Arca Images’ World Premiere By Carlos Celdran
DESCRIPTION:A celebrated writer has died in Miami. The woman who edited his manuscripts opens a stack of pages that time never erased. So begins the new play from acclaimed Cuban writer Carlos Celdrán in his self-directed world premiere production. “Variacones para un tema insignificante\,” presented by one of Miami’s leading Latin theater companies\, Arca Images\, along with the Miami-Dade County Auditorium and Roxy Theater Group\, includes live\, simultaneous English translation at all performances. \nLocation: Westchester Cultural Arts Center
URL:https://artsbizmiami.org/calendar/memory-betrayal-in-arca-images-world-premiere-by-carlos-celdran/
CATEGORIES:Partner Events
ATTACH;FMTTYPE=image/webp:https://artsbizmiami.org/wp-content/uploads/2026/04/variaciones-2-768x1323-1.webp
END:VEVENT
END:VCALENDAR