BEGIN:VCALENDAR
VERSION:2.0
PRODID:-//Arts &amp; Business Council of Miami - ECPv6.15.20//NONSGML v1.0//EN
CALSCALE:GREGORIAN
METHOD:PUBLISH
X-ORIGINAL-URL:https://artsbizmiami.org
X-WR-CALDESC:Events for Arts &amp; Business Council of Miami
REFRESH-INTERVAL;VALUE=DURATION:PT1H
X-Robots-Tag:noindex
X-PUBLISHED-TTL:PT1H
BEGIN:VTIMEZONE
TZID:America/New_York
BEGIN:DAYLIGHT
TZOFFSETFROM:-0500
TZOFFSETTO:-0400
TZNAME:EDT
DTSTART:20250309T070000
END:DAYLIGHT
BEGIN:STANDARD
TZOFFSETFROM:-0400
TZOFFSETTO:-0500
TZNAME:EST
DTSTART:20251102T060000
END:STANDARD
BEGIN:DAYLIGHT
TZOFFSETFROM:-0500
TZOFFSETTO:-0400
TZNAME:EDT
DTSTART:20260308T070000
END:DAYLIGHT
BEGIN:STANDARD
TZOFFSETFROM:-0400
TZOFFSETTO:-0500
TZNAME:EST
DTSTART:20261101T060000
END:STANDARD
BEGIN:DAYLIGHT
TZOFFSETFROM:-0500
TZOFFSETTO:-0400
TZNAME:EDT
DTSTART:20270314T070000
END:DAYLIGHT
BEGIN:STANDARD
TZOFFSETFROM:-0400
TZOFFSETTO:-0500
TZNAME:EST
DTSTART:20271107T060000
END:STANDARD
END:VTIMEZONE
BEGIN:VEVENT
DTSTART;TZID=America/New_York:20260403T130000
DTEND;TZID=America/New_York:20260405T160000
DTSTAMP:20260421T190142
CREATED:20260403T212453Z
LAST-MODIFIED:20260403T212453Z
UID:19149-1775221200-1775404800@artsbizmiami.org
SUMMARY:The Audience
DESCRIPTION:Location: Coral Gables Art Cinema \nFor 60 years\, Queen Elizabeth II met with each of her 12 prime ministers in a private weekly meeting. This meeting is known as The Audience. From Winston Churchill to Margaret Thatcher and David Cameron\, the Queen advised her prime ministers on matters both public and personal. Through these private audiences\, we see glimpses of the woman behind the crown and witness the moments that shaped a monarch. Peter Morgan’s Netflix phenomenon The Crown was based on this hit play that was captured live from London’s West End in 2013 and went on to become one of the most-watched NT Live productions. \nThis production includes an intermission. The screening on Friday\, April 4 features open captions as part of our commitment to make programs more accessible to d/Deaf and hard of hearing audiences. \n 
URL:https://artsbizmiami.org/calendar/the-audience/
CATEGORIES:#CoralGablesArts,Partner Events
ATTACH;FMTTYPE=image/jpeg:https://artsbizmiami.org/wp-content/uploads/2026/04/the-audience-ntl-poster.jpg
END:VEVENT
BEGIN:VEVENT
DTSTART;TZID=America/New_York:20260404T113000
DTEND;TZID=America/New_York:20260405T123000
DTSTAMP:20260421T190142
CREATED:20260403T215527Z
LAST-MODIFIED:20260403T215641Z
UID:19159-1775302200-1775392200@artsbizmiami.org
SUMMARY:My Neighbor Totoro
DESCRIPTION:Location: Coral Gables Art Cinema \nOne of the most endearing films ever made for children\, My Neighbor Totoro\, is a deceptively simple tale of two girls\, Satsuki and Mei\, who move with their father to a new house in the countryside while he cares for their ailing mother. \nThey soon discover that the surrounding forests are home to a family of Totoros\, gentle but powerful creatures who live in a huge and ancient camphor tree and are seen only by children. But beneath the film’s playfulness and narrative simplicity lie depths of wisdom. \nAs with much of Miyazaki’s work\, My Neighbor Totoro is infused with an almost spiritual reverence for the power of nature. Like Satsuki and Mei\, audiences are left with a sense of wonder at the beauty\, mystery\, and preciousness of the world around us. \nSaturday\, April 4 – 11:00 AM – Japanese with English subtitles \nSunday\, April 5 – 11:00 AM – English dubbed
URL:https://artsbizmiami.org/calendar/my-neighbor-totoro/
CATEGORIES:#CoralGablesArts,Partner Events
ATTACH;FMTTYPE=image/jpeg:https://artsbizmiami.org/wp-content/uploads/2026/04/totoro-poster.jpg
END:VEVENT
BEGIN:VEVENT
DTSTART;TZID=America/New_York:20260404T183000
DTEND;TZID=America/New_York:20260404T223000
DTSTAMP:20260421T190142
CREATED:20260403T214132Z
LAST-MODIFIED:20260403T214132Z
UID:19153-1775327400-1775341800@artsbizmiami.org
SUMMARY:The Ten Commandments
DESCRIPTION:Location: Coral Gables Art Cinema \nEaster Weekend Special Screening \nFor sheer pageantry and spectacle\, few motion pictures can claim to equal the splendor of Cecil B. DeMille’s 1956 remake of his epic The Ten Commandments. Filmed in Egypt and the Sinai with one of the biggest sets ever constructed for a motion picture\, this version tells the story of the life of Moses (Charlton Heston)\, once favored in the Pharaoh’s (Yul Brynner) household\, who turned his back on a privileged life to lead his people to freedom. \nThis film includes a 10-minute intermission.
URL:https://artsbizmiami.org/calendar/the-ten-commandments/
CATEGORIES:#CoralGablesArts,Partner Events
ATTACH;FMTTYPE=image/jpeg:https://artsbizmiami.org/wp-content/uploads/2026/04/TenCommandments_Poster.jpg
END:VEVENT
BEGIN:VEVENT
DTSTART;TZID=America/New_York:20260404T200000
DTEND;TZID=America/New_York:20260404T213000
DTSTAMP:20260421T190142
CREATED:20260403T214540Z
LAST-MODIFIED:20260403T215126Z
UID:19156-1775332800-1775338200@artsbizmiami.org
SUMMARY:An Evening With Meow Meow
DESCRIPTION:Location: The Dennis C. Moss Cultural Arts Center \nInternational siren and comedienne extraordinaire Meow Meow brings her glorious brand of subversive and sublime to North America. The spectacular crowd-surfing queen of song creates an unforgettable evening of exquisite music and much mayhem. \nPrepare for Piazzolla tangos\, Weill\, Brecht\, Brel\, and even Radiohead alongside original chansons. With Bowie and Pina Bausch as curators of her work\, Meow is an award-winning phenomenon\, from Shanghai to the dives of Berlin\, on London’s glittering West End\, to Lincoln Center\, Sydney Opera House\, Carnegie Hall\, the London Philharmonic Orchestra and at Shakespeare’s Globe in London. \n 
URL:https://artsbizmiami.org/calendar/an-evening-with-meow-meow/
CATEGORIES:Partner Events
ATTACH;FMTTYPE=image/webp:https://artsbizmiami.org/wp-content/uploads/2026/04/an-audience-with-meow-meow.webp
END:VEVENT
BEGIN:VEVENT
DTSTART;TZID=America/New_York:20260409T180000
DTEND;TZID=America/New_York:20260409T193000
DTSTAMP:20260421T190142
CREATED:20260403T221206Z
LAST-MODIFIED:20260403T221206Z
UID:19162-1775757600-1775763000@artsbizmiami.org
SUMMARY:In Conversation with Artists: Legacy of Christo and Jeanne-Claude
DESCRIPTION:Location: The Betsy Hotel \nJoin us at The Betsy Hotel for an exclusive conversation exploring the legacy of Christo and Jeanne-Claude. Bonnie Clearwater\, Director and Chief Curator of NSU Art Museum\, hosts Jonathan Henery\, Manager of the artists’ studio and Treasurer of their Foundation. This special evening offers a deep dive into the iconic\, large-scale installations that defined the duo’s career\, from “The Gates” to the “Wrapped Reichstag.” Guests will have the opportunity to engage in a lively Q&A and connect with fellow enthusiasts in a vibrant gallery setting. Don’t miss this unique chance to explore the innovation and environmental engagement that continue to inspire the art world today.
URL:https://artsbizmiami.org/calendar/in-conversation-with-artists-legacy-of-christo-and-jeanne-claude/
CATEGORIES:Miami Beach Arts,Partner Events
ATTACH;FMTTYPE=image/webp:https://artsbizmiami.org/wp-content/uploads/2026/04/07sp-AOC-christo-02-kztm-articleLarge.webp
END:VEVENT
BEGIN:VEVENT
DTSTART;TZID=America/New_York:20260410T200000
DTEND;TZID=America/New_York:20260410T212000
DTSTAMP:20260421T190142
CREATED:20260403T222516Z
LAST-MODIFIED:20260403T222516Z
UID:19165-1775851200-1775856000@artsbizmiami.org
SUMMARY:An Instrumental Start: A Model for the Nation – Documentary Premiere
DESCRIPTION:Location: Miami Film Festival – Olympia Theater \nCharting more than 50 years of extraordinary impact\, this documentary opens a window into a remarkable chain of success stories born from the visionary teaching philosophy of educator Marshall L. Davis Sr. \nIn the shadow of Miami’s downtown skyline within one of the most marginalized and dangerous neighborhoods in America\, the Marshall L. Davis Sr. African Heritage Cultural Arts Center became an unlikely engine of excellence through what began as an after-school program – and grew into one of the most innovative arts education models in the United States. \nFilmed across America over three years and relaying a story that spans five decades\, this documentary follows Davis\, his devoted staff\, and the young people whose lives were transformed within the center’s walls.
URL:https://artsbizmiami.org/calendar/an-instrumental-start-a-model-for-the-nation/
CATEGORIES:Partner Events
ATTACH;FMTTYPE=image/webp:https://artsbizmiami.org/wp-content/uploads/2026/04/att1iFLGXBJY4NfBw_xxl.webp
END:VEVENT
BEGIN:VEVENT
DTSTART;TZID=America/New_York:20260411T170000
DTEND;TZID=America/New_York:20260411T184000
DTSTAMP:20260421T190142
CREATED:20260403T223629Z
LAST-MODIFIED:20260403T223629Z
UID:19171-1775926800-1775932800@artsbizmiami.org
SUMMARY:Flamenco Puro - Clarita Filgueiras' Voices of Flamenco
DESCRIPTION:Location: The Dennis C. Moss Cultural Arts Center \nExperience the artistry of Clarita Filgueiras\, celebrated flamenco dancer\, in an unforgettable evening alongside distinguished guest artists\, both local and from Spain. With the soulful resonance of guitar\, the haunting depth of song\, and the commanding strength of dance\, this performance captures the timeless spirit of Andalusia. Rooted in tradition and ignited with passion\, flamenco comes alive — elegant\, powerful\, and utterly mesmerizing.
URL:https://artsbizmiami.org/calendar/flamenco-puro-clarita-filgueiras-voices-of-flamenco/
CATEGORIES:Partner Events
ATTACH;FMTTYPE=image/jpeg:https://artsbizmiami.org/wp-content/uploads/2026/04/Flamenco-Puro-Frankie-Rios.jpg
END:VEVENT
BEGIN:VEVENT
DTSTART;TZID=America/New_York:20260411T190000
DTEND;TZID=America/New_York:20260411T210000
DTSTAMP:20260421T190142
CREATED:20260403T223153Z
LAST-MODIFIED:20260403T223153Z
UID:19168-1775934000-1775941200@artsbizmiami.org
SUMMARY:BROADWAY IN THE BOTANICAL
DESCRIPTION:Location: Miami Beach Botanical Garden \nBack by Popular Demand – Broadway in the Botanical Returns! \nArea Stage returns to the Miami Beach Botanical Garden for an enchanting evening celebrating the iconic voices of women in musical theatre. This new edition of Broadway in the Botanical features a brand-new lineup of showstopping hits and timeless show tunes performed by our talented professional and youth artists. Set against the garden’s stunning tropical backdrop\, this live outdoor concert is a spring time favorite for local families and anyone looking for a unique date night experience in the heart of Miami Beach. \nWe invite you to make the evening your own: bring a blanket or lawn chair\, pack a picnic\, and settle in for a magical performance where nature and theatre come together. It is a relaxed\, open-air celebration designed to offer something for every musical theatre fan\, from classic Broadway enthusiasts to the next generation of theater-goers. We look forward to sharing this unforgettable night of music and community with you under the stars.
URL:https://artsbizmiami.org/calendar/broadway-in-the-botanical/
CATEGORIES:Partner Events
ATTACH;FMTTYPE=image/jpeg:https://artsbizmiami.org/wp-content/uploads/2026/04/BITB3-Cover-Image-4-Jennifer-Gomez.jpg
END:VEVENT
BEGIN:VEVENT
DTSTART;TZID=America/New_York:20260411T190000
DTEND;TZID=America/New_York:20260411T210000
DTSTAMP:20260421T190142
CREATED:20260403T224325Z
LAST-MODIFIED:20260403T224325Z
UID:19174-1775934000-1775941200@artsbizmiami.org
SUMMARY:Sankofa Jazz Concert
DESCRIPTION:Location: African Heritage Cultural Arts \nJoin us for an unforgettable night of smooth tunes and good vibes. The SANKOFA Jazz Concert features the Jason Marsalis Quartet with Vanisha Gould along with Mustafa on Sax\, Trio De Janeiro featuring Magela Herrera\, and The John Marqis Trio. The Sankofa Jazz concert is a vibrant celebration of jazz music’s enduring legacy and its profound influence on American culture. \nShowcasing both traditional and contemporary jazz styles\, the event honors the genre’s historical roots while highlighting its ongoing evolution and cultural significance. In a year of profound reflection commemorating 100 years of Black History Month\, the 250th anniversary of the United States\, and the 51st year of the Marshall L. Davis Sr. African Heritage Cultural Arts Center\, let’s gather in the spirit of Sankofa: to reach back\, reclaim wisdom\, and carry it forward.
URL:https://artsbizmiami.org/calendar/sankofa-jazz-concert/
CATEGORIES:Partner Events
ATTACH;FMTTYPE=image/jpeg:https://artsbizmiami.org/wp-content/uploads/2026/04/AHC1113_Flyer-Sankofa-Jazz-Concert-1080x1080-Frankie-Rios.jpg
END:VEVENT
BEGIN:VEVENT
DTSTART;TZID=America/New_York:20260412T130000
DTEND;TZID=America/New_York:20260412T143000
DTSTAMP:20260421T190142
CREATED:20260403T224818Z
LAST-MODIFIED:20260403T224818Z
UID:19177-1775998800-1776004200@artsbizmiami.org
SUMMARY:Davin Youngs – The RESET
DESCRIPTION:Location: The Dennis C. Moss Cultural Arts Center \nYou’ve never experienced sound and music quite like this before! At the captivating crossroads of wellness and music lies The RESET—an invitation to journey beyond the traditional concert experience\, into a space of profound transformation and healing. Created and performed by renowned singer and sound healing artist\, Davin Youngs\, this immersive take on a “sound bath” will elevate your mind\, body and spirit. \nDavin masterfully weaves a tapestry of sound using improvisational singing\, looping devices\, crystal-singing bowls\, tuning forks\, and other overtone-emitting instruments. Layer upon improvised layer will guide you through a sonic landscape into the far reaches of your mind. What sets The RESET apart is the integration of electronic beats\, seamlessly intertwined with the emergence of music that mirrors the unique beauty of your inner world. \nThis concert experience will leave you with a refreshed perspective and feeling profound renewal.
URL:https://artsbizmiami.org/calendar/davin-youngs-the-reset/
CATEGORIES:Partner Events
ATTACH;FMTTYPE=image/jpeg:https://artsbizmiami.org/wp-content/uploads/2026/04/Davin-Youngs-Frankie-Rios.jpeg
END:VEVENT
BEGIN:VEVENT
DTSTART;TZID=America/New_York:20260422T180000
DTEND;TZID=America/New_York:20260422T194000
DTSTAMP:20260421T190142
CREATED:20260420T191148Z
LAST-MODIFIED:20260420T191148Z
UID:19264-1776880800-1776886800@artsbizmiami.org
SUMMARY:With & Without: A Coral Story - Earth Day Special Presentation
DESCRIPTION:Explores what life can and will look like without coral reefs. Told through the words of leading scientists\, the film examines Stony Coral Tissue Loss Disease. \nFrom its controversial origins in 2014 to the present day\, scientists are still working to understand what this disease is and how to stop it. At the heart of the issue is human impact. Without significant changes to everyday life and corporate cooperation\, we risk losing one of the most important animals on Earth—coral. \nLocation: Coral Gables Art Cinema
URL:https://artsbizmiami.org/calendar/with-without-a-coral-story-earth-day-special-presentation/
CATEGORIES:#CoralGablesArts,Partner Events
ATTACH;FMTTYPE=image/jpeg:https://artsbizmiami.org/wp-content/uploads/2026/04/Poster-scaled-1.jpg
END:VEVENT
BEGIN:VEVENT
DTSTART;TZID=America/New_York:20260423T080000
DTEND;TZID=America/New_York:20260423T170000
DTSTAMP:20260421T190142
CREATED:20260420T192511Z
LAST-MODIFIED:20260420T192511Z
UID:19270-1776931200-1776963600@artsbizmiami.org
SUMMARY:The Light of the World: Artist Talk
DESCRIPTION:In Dialogue at Saladrigas Gallery: Dr. Carol Damian and Dr. Adriana Herrera invites guests to join curators Dr. Carol Damian and Dr. Adriana Herrera for a special evening conversation on The Light of the World\, a Christ-centered exhibition exploring the depiction of Jesus Christ across centuries and cultures. During this program\, the curators will discuss the exhibition’s catalyst\, development\, and curatorial vision\, offering deeper insight into the ideas\, research\, and selection process behind the works on view. \nOn view from March 12 through May 6\, 2026\, The Light of the World brings together paintings\, sculptures\, and drawings from the 16th century to today\, including Russian icons\, Renaissance works\, paintings from the Cuzco School\, late 19th- and early 20th-century Latin American art\, and contemporary works by local and international artists. Through this dialogue\, visitors will gain a richer understanding of how the exhibition came together and how artists across time and place have interpreted the life and image of Jesus Christ. \nThis event takes place at the Olga M. and Carlos A. Saladrigas Gallery at Belen Jesuit Preparatory School\, extending the exhibition experience through conversation\, reflection\, and curatorial perspective. \nLocation: Saladrigas Gallery
URL:https://artsbizmiami.org/calendar/the-light-of-the-world-artist-talk/
ATTACH;FMTTYPE=image/jpeg:https://artsbizmiami.org/wp-content/uploads/2026/04/ubnniesclbxhoyynnpli.jpg
END:VEVENT
BEGIN:VEVENT
DTSTART;TZID=America/New_York:20260423T190000
DTEND;TZID=America/New_York:20260423T201500
DTSTAMP:20260421T190142
CREATED:20260420T191820Z
LAST-MODIFIED:20260420T191820Z
UID:19267-1776970800-1776975300@artsbizmiami.org
SUMMARY:DVCAI Back-Chat: What’s in Your Container?
DESCRIPTION:Join Diaspora Vibe Cultural Arts Incubator (DVCAI) for Back-Chat: What’s in Your Container?\, a quarterly online conversation exploring the experiences of diasporic cultural producers\, scholars\, and artists who have benefited from DVCAI’s programs and support since 1996. \nAs DVCAI celebrates 30 years of nurturing and amplifying artists from the Caribbean and Latin American Diaspora\, this special session offers space for dialogue\, reflection\, and connection across community\, culture\, and contemporary art. \nThis session features artists Breeana Thorne\, Jevon Brown\, Lance Minto-Strouse and Myah Smith. \nBack-Chat invites community members\, artists\, and arts supporters into a thoughtful virtual gathering centered on creative exchange and shared experience. \nRegister for free at linktr.ee/dvcai. Donations to support DVCAI’s work are encouraged. \nLocation: Online via Zoom Meeting ID: 240 501 7214
URL:https://artsbizmiami.org/calendar/dvcai-back-chat-whats-in-your-container/
ATTACH;FMTTYPE=image/jpeg:https://artsbizmiami.org/wp-content/uploads/2026/04/Screenshot-2026-04-20-151434.jpg
END:VEVENT
BEGIN:VEVENT
DTSTART;TZID=America/New_York:20260424T193000
DTEND;TZID=America/New_York:20260424T204500
DTSTAMP:20260421T190142
CREATED:20260420T194032Z
LAST-MODIFIED:20260420T194032Z
UID:19277-1777059000-1777063500@artsbizmiami.org
SUMMARY:Legendary Cuban Sounds
DESCRIPTION:Legendary Cuban Sound bring the raw\, rhythmic soul of classic Cuba to life. With a driving rhythm section\, punchy horns and rich vocal harmonies\, the band capture the sound of vintage Havana: refined\, lively and built for dancing. \nTheir set list moves effortlessly through son\, cha-cha\, mambo and Latin jazz\, paying tribute to the golden era of Cuban music while keeping the energy current. Every performance is bold\, stylish and fun \nLocation: Adrienne Arsht Center
URL:https://artsbizmiami.org/calendar/legendary-cuban-sounds/
CATEGORIES:#DowntownMiamiArts,Partner Events
ATTACH;FMTTYPE=image/jpeg:https://artsbizmiami.org/wp-content/uploads/2026/04/images-2.jpg
END:VEVENT
BEGIN:VEVENT
DTSTART;TZID=America/New_York:20260424T193000
DTEND;TZID=America/New_York:20260424T213000
DTSTAMP:20260421T190142
CREATED:20260420T193118Z
LAST-MODIFIED:20260420T193118Z
UID:19273-1777059000-1777066200@artsbizmiami.org
SUMMARY:Party On The Plaza Featuring The Boneshakers
DESCRIPTION:Get ready for an electrifying outdoor concert with The Boneshakers\, the legendary funk and soul band led by acclaimed guitarist Randy Jacobs. Known for their high-energy performances and deep roots in blues\, rock\, and R&B\, the group delivers a powerful sound shaped by decades of touring and collaboration with some of the biggest names in music. Blending gritty grooves with irresistible rhythms\, this dynamic ensemble promises a night of nonstop dancing and feel-good vibes. \nLocation: The Dennis C. Moss Cultural Arts Center
URL:https://artsbizmiami.org/calendar/party-on-the-plaza-featuring-the-boneshakers/
CATEGORIES:Partner Events
ATTACH;FMTTYPE=image/jpeg:https://artsbizmiami.org/wp-content/uploads/2026/04/maxresdefault.jpg
END:VEVENT
BEGIN:VEVENT
DTSTART;TZID=America/New_York:20260424T200000
DTEND;TZID=America/New_York:20260503T213000
DTSTAMP:20260421T190142
CREATED:20260420T195030Z
LAST-MODIFIED:20260420T195030Z
UID:19280-1777060800-1777843800@artsbizmiami.org
SUMMARY:Memory & Betrayal In Arca Images’ World Premiere By Carlos Celdran
DESCRIPTION:A celebrated writer has died in Miami. The woman who edited his manuscripts opens a stack of pages that time never erased. So begins the new play from acclaimed Cuban writer Carlos Celdrán in his self-directed world premiere production. “Variacones para un tema insignificante\,” presented by one of Miami’s leading Latin theater companies\, Arca Images\, along with the Miami-Dade County Auditorium and Roxy Theater Group\, includes live\, simultaneous English translation at all performances. \nLocation: Westchester Cultural Arts Center
URL:https://artsbizmiami.org/calendar/memory-betrayal-in-arca-images-world-premiere-by-carlos-celdran/
CATEGORIES:Partner Events
ATTACH;FMTTYPE=image/webp:https://artsbizmiami.org/wp-content/uploads/2026/04/variaciones-2-768x1323-1.webp
END:VEVENT
END:VCALENDAR