BEGIN:VCALENDAR
VERSION:2.0
PRODID:-//Arts &amp; Business Council of Miami - ECPv6.15.20//NONSGML v1.0//EN
CALSCALE:GREGORIAN
METHOD:PUBLISH
X-ORIGINAL-URL:https://artsbizmiami.org
X-WR-CALDESC:Events for Arts &amp; Business Council of Miami
REFRESH-INTERVAL;VALUE=DURATION:PT1H
X-Robots-Tag:noindex
X-PUBLISHED-TTL:PT1H
BEGIN:VTIMEZONE
TZID:America/New_York
BEGIN:DAYLIGHT
TZOFFSETFROM:-0500
TZOFFSETTO:-0400
TZNAME:EDT
DTSTART:20240310T070000
END:DAYLIGHT
BEGIN:STANDARD
TZOFFSETFROM:-0400
TZOFFSETTO:-0500
TZNAME:EST
DTSTART:20241103T060000
END:STANDARD
BEGIN:DAYLIGHT
TZOFFSETFROM:-0500
TZOFFSETTO:-0400
TZNAME:EDT
DTSTART:20250309T070000
END:DAYLIGHT
BEGIN:STANDARD
TZOFFSETFROM:-0400
TZOFFSETTO:-0500
TZNAME:EST
DTSTART:20251102T060000
END:STANDARD
BEGIN:DAYLIGHT
TZOFFSETFROM:-0500
TZOFFSETTO:-0400
TZNAME:EDT
DTSTART:20260308T070000
END:DAYLIGHT
BEGIN:STANDARD
TZOFFSETFROM:-0400
TZOFFSETTO:-0500
TZNAME:EST
DTSTART:20261101T060000
END:STANDARD
END:VTIMEZONE
BEGIN:VEVENT
DTSTART;TZID=America/New_York:20251201T170000
DTEND;TZID=America/New_York:20251201T190000
DTSTAMP:20260423T073732
CREATED:20251022T140202Z
LAST-MODIFIED:20251110T172208Z
UID:18483-1764608400-1764615600@artsbizmiami.org
SUMMARY:VIP Art Week Happy Hour | Arts Biz Miami x Studio Artera
DESCRIPTION:Join us for a decadent co-host Creative Happy Hour with Studio Artera at the InterContinental Miami. \nImmerse yourself in the luminous works of acclaimed French artist Diane Benoit du Rey\, renowned for her architectural approach to light and space\, Diane’s work has been celebrated across Versailles\, Paris\, and Design Miami. Now\, she returns for one evening only to illuminate the InterContinental Miami. \nEnjoy an evening of craft cocktails\, light bites\, and elegant networking with fellow art lovers\, collectors\, and cultural leaders.
URL:https://artsbizmiami.org/calendar/vip-art-week-happy-hour-arts-biz-miami-x-studio-artera/
CATEGORIES:#DowntownMiamiArts,Partner Events
ATTACH;FMTTYPE=image/jpeg:https://artsbizmiami.org/wp-content/uploads/2025/10/Diane-Benoit-du-Rey-detail-of-the-monumental-installation-Hypnose-at-Versailles-2023-Pierrick-Daul-courtesy-of-the-artist.1.jpg
END:VEVENT
END:VCALENDAR